Workbook

Sheet Start
B2: Urlaubsplaner 2027
B3: Kostenlose Vorlage für die Urlaubs- und Abwesenheitsplanung im Team
B5: 1. Bundesland wählen: | C5: Berlin
C6: Feiertage dieses Bundeslands werden in allen Monaten markiert und nicht als Urlaub gezählt.
B8: 2. Team eintragen: | C8: Im Blatt „Jahresübersicht“ Namen, Urlaubsanspruch und Resturlaub aus dem Vorjahr eintragen.
B9: 3. Abwesenheiten eintragen: | C9: In den Monatsblättern pro Tag ein Kürzel aus der Legende eintragen (Auswahlliste).
B10: 4. Resturlaub ablesen: | C10: Die Jahresübersicht zählt Urlaubstage automatisch. Wochenenden und Feiertage zählen nicht.
B12: Legende
B13: U | C13: Urlaub (ganzer Tag)
B14: H | C14: Halber Urlaubstag (zählt 0,5)
B15: K | C15: Krank / Arbeitsunfähigkeit
B16: S | C16: Sonderurlaub (z. B. Hochzeit, Umzug)
B17: Z | C17: Zeitausgleich / Überstundenabbau
C18: Wochenende
C19: Gesetzlicher Feiertag (gewähltes Bundesland)
B21: Hinweise
C22: Mariä Himmelfahrt gilt in Bayern nur in Gemeinden mit überwiegend katholischer Bevölkerung, Fronleichnam zusätzlich in einzelnen Gemeinden in Sachsen und Thüringen, das Augsburger Friedensfest (8.8.) nur in Augsburg. Maßgeblich ist der Arbeitsort.
C23: Stand: Oktober 2026. Quelle: Feiertagsgesetze der Bundesländer. Angaben ohne Gewähr.
C24: Ein H (halber Tag) zählt 0,5 Urlaubstage. Teilzeit mit weniger Arbeitstagen: Anspruch entsprechend anpassen, Tage nur an Arbeitstagen eintragen.
B26: Erstellt von flair | C26: Urlaub digital planen: Abwesenheitsmanagement mit flair

Sheet Jahresübersicht
A1: Urlaubsplaner 2027: Jahresübersicht
A2: ="Bundesland: "&Start!C5 | H2: Abwesenheiten digital verwalten mit flair
A4: Name | B4: Abteilung | C4: Anspruch 2027 | D4: Rest 2026 | E4: Gesamt | F4: Jan | G4: Feb | H4: Mär | I4: Apr | J4: Mai | K4: Jun | L4: Jul | M4: Aug | N4: Sep | O4: Okt | P4: Nov | Q4: Dez | R4: Genommen | S4: Verbleibend | T4: Krank (Tage)
E5: =IF(A5="","",C5+D5) | F5: ='Januar'!AG7 | G5: ='Februar'!AG7 | H5: ='März'!AG7 | I5: ='April'!AG7 | J5: ='Mai'!AG7 | K5: ='Juni'!AG7 | L5: ='Juli'!AG7 | M5: ='August'!AG7 | N5: ='September'!AG7 | O5: ='Oktober'!AG7 | P5: ='November'!AG7 | Q5: ='Dezember'!AG7 | R5: =SUM(F5:Q5) | S5: =IF(A5="","",E5-R5) | T5: ='Januar'!AH7+'Februar'!AH7+'März'!AH7+'April'!AH7+'Mai'!AH7+'Juni'!AH7+'Juli'!AH7+'August'!AH7+'September'!AH7+'Oktober'!AH7+'November'!AH7+'Dezember'!AH7
E6: =IF(A6="","",C6+D6) | F6: ='Januar'!AG8 | G6: ='Februar'!AG8 | H6: ='März'!AG8 | I6: ='April'!AG8 | J6: ='Mai'!AG8 | K6: ='Juni'!AG8 | L6: ='Juli'!AG8 | M6: ='August'!AG8 | N6: ='September'!AG8 | O6: ='Oktober'!AG8 | P6: ='November'!AG8 | Q6: ='Dezember'!AG8 | R6: =SUM(F6:Q6) | S6: =IF(A6="","",E6-R6) | T6: ='Januar'!AH8+'Februar'!AH8+'März'!AH8+'April'!AH8+'Mai'!AH8+'Juni'!AH8+'Juli'!AH8+'August'!AH8+'September'!AH8+'Oktober'!AH8+'November'!AH8+'Dezember'!AH8
E7: =IF(A7="","",C7+D7) | F7: ='Januar'!AG9 | G7: ='Februar'!AG9 | H7: ='März'!AG9 | I7: ='April'!AG9 | J7: ='Mai'!AG9 | K7: ='Juni'!AG9 | L7: ='Juli'!AG9 | M7: ='August'!AG9 | N7: ='September'!AG9 | O7: ='Oktober'!AG9 | P7: ='November'!AG9 | Q7: ='Dezember'!AG9 | R7: =SUM(F7:Q7) | S7: =IF(A7="","",E7-R7) | T7: ='Januar'!AH9+'Februar'!AH9+'März'!AH9+'April'!AH9+'Mai'!AH9+'Juni'!AH9+'Juli'!AH9+'August'!AH9+'September'!AH9+'Oktober'!AH9+'November'!AH9+'Dezember'!AH9
E8: =IF(A8="","",C8+D8) | F8: ='Januar'!AG10 | G8: ='Februar'!AG10 | H8: ='März'!AG10 | I8: ='April'!AG10 | J8: ='Mai'!AG10 | K8: ='Juni'!AG10 | L8: ='Juli'!AG10 | M8: ='August'!AG10 | N8: ='September'!AG10 | O8: ='Oktober'!AG10 | P8: ='November'!AG10 | Q8: ='Dezember'!AG10 | R8: =SUM(F8:Q8) | S8: =IF(A8="","",E8-R8) | T8: ='Januar'!AH10+'Februar'!AH10+'März'!AH10+'April'!AH10+'Mai'!AH10+'Juni'!AH10+'Juli'!AH10+'August'!AH10+'September'!AH10+'Oktober'!AH10+'November'!AH10+'Dezember'!AH10
E9: =IF(A9="","",C9+D9) | F9: ='Januar'!AG11 | G9: ='Februar'!AG11 | H9: ='März'!AG11 | I9: ='April'!AG11 | J9: ='Mai'!AG11 | K9: ='Juni'!AG11 | L9: ='Juli'!AG11 | M9: ='August'!AG11 | N9: ='September'!AG11 | O9: ='Oktober'!AG11 | P9: ='November'!AG11 | Q9: ='Dezember'!AG11 | R9: =SUM(F9:Q9) | S9: =IF(A9="","",E9-R9) | T9: ='Januar'!AH11+'Februar'!AH11+'März'!AH11+'April'!AH11+'Mai'!AH11+'Juni'!AH11+'Juli'!AH11+'August'!AH11+'September'!AH11+'Oktober'!AH11+'November'!AH11+'Dezember'!AH11
E10: =IF(A10="","",C10+D10) | F10: ='Januar'!AG12 | G10: ='Februar'!AG12 | H10: ='März'!AG12 | I10: ='April'!AG12 | J10: ='Mai'!AG12 | K10: ='Juni'!AG12 | L10: ='Juli'!AG12 | M10: ='August'!AG12 | N10: ='September'!AG12 | O10: ='Oktober'!AG12 | P10: ='November'!AG12 | Q10: ='Dezember'!AG12 | R10: =SUM(F10:Q10) | S10: =IF(A10="","",E10-R10) | T10: ='Januar'!AH12+'Februar'!AH12+'März'!AH12+'April'!AH12+'Mai'!AH12+'Juni'!AH12+'Juli'!AH12+'August'!AH12+'September'!AH12+'Oktober'!AH12+'November'!AH12+'Dezember'!AH12
E11: =IF(A11="","",C11+D11) | F11: ='Januar'!AG13 | G11: ='Februar'!AG13 | H11: ='März'!AG13 | I11: ='April'!AG13 | J11: ='Mai'!AG13 | K11: ='Juni'!AG13 | L11: ='Juli'!AG13 | M11: ='August'!AG13 | N11: ='September'!AG13 | O11: ='Oktober'!AG13 | P11: ='November'!AG13 | Q11: ='Dezember'!AG13 | R11: =SUM(F11:Q11) | S11: =IF(A11="","",E11-R11) | T11: ='Januar'!AH13+'Februar'!AH13+'März'!AH13+'April'!AH13+'Mai'!AH13+'Juni'!AH13+'Juli'!AH13+'August'!AH13+'September'!AH13+'Oktober'!AH13+'November'!AH13+'Dezember'!AH13
E12: =IF(A12="","",C12+D12) | F12: ='Januar'!AG14 | G12: ='Februar'!AG14 | H12: ='März'!AG14 | I12: ='April'!AG14 | J12: ='Mai'!AG14 | K12: ='Juni'!AG14 | L12: ='Juli'!AG14 | M12: ='August'!AG14 | N12: ='September'!AG14 | O12: ='Oktober'!AG14 | P12: ='November'!AG14 | Q12: ='Dezember'!AG14 | R12: =SUM(F12:Q12) | S12: =IF(A12="","",E12-R12) | T12: ='Januar'!AH14+'Februar'!AH14+'März'!AH14+'April'!AH14+'Mai'!AH14+'Juni'!AH14+'Juli'!AH14+'August'!AH14+'September'!AH14+'Oktober'!AH14+'November'!AH14+'Dezember'!AH14
E13: =IF(A13="","",C13+D13) | F13: ='Januar'!AG15 | G13: ='Februar'!AG15 | H13: ='März'!AG15 | I13: ='April'!AG15 | J13: ='Mai'!AG15 | K13: ='Juni'!AG15 | L13: ='Juli'!AG15 | M13: ='August'!AG15 | N13: ='September'!AG15 | O13: ='Oktober'!AG15 | P13: ='November'!AG15 | Q13: ='Dezember'!AG15 | R13: =SUM(F13:Q13) | S13: =IF(A13="","",E13-R13) | T13: ='Januar'!AH15+'Februar'!AH15+'März'!AH15+'April'!AH15+'Mai'!AH15+'Juni'!AH15+'Juli'!AH15+'August'!AH15+'September'!AH15+'Oktober'!AH15+'November'!AH15+'Dezember'!AH15
E14: =IF(A14="","",C14+D14) | F14: ='Januar'!AG16 | G14: ='Februar'!AG16 | H14: ='März'!AG16 | I14: ='April'!AG16 | J14: ='Mai'!AG16 | K14: ='Juni'!AG16 | L14: ='Juli'!AG16 | M14: ='August'!AG16 | N14: ='September'!AG16 | O14: ='Oktober'!AG16 | P14: ='November'!AG16 | Q14: ='Dezember'!AG16 | R14: =SUM(F14:Q14) | S14: =IF(A14="","",E14-R14) | T14: ='Januar'!AH16+'Februar'!AH16+'März'!AH16+'April'!AH16+'Mai'!AH16+'Juni'!AH16+'Juli'!AH16+'August'!AH16+'September'!AH16+'Oktober'!AH16+'November'!AH16+'Dezember'!AH16
E15: =IF(A15="","",C15+D15) | F15: ='Januar'!AG17 | G15: ='Februar'!AG17 | H15: ='März'!AG17 | I15: ='April'!AG17 | J15: ='Mai'!AG17 | K15: ='Juni'!AG17 | L15: ='Juli'!AG17 | M15: ='August'!AG17 | N15: ='September'!AG17 | O15: ='Oktober'!AG17 | P15: ='November'!AG17 | Q15: ='Dezember'!AG17 | R15: =SUM(F15:Q15) | S15: =IF(A15="","",E15-R15) | T15: ='Januar'!AH17+'Februar'!AH17+'März'!AH17+'April'!AH17+'Mai'!AH17+'Juni'!AH17+'Juli'!AH17+'August'!AH17+'September'!AH17+'Oktober'!AH17+'November'!AH17+'Dezember'!AH17
E16: =IF(A16="","",C16+D16) | F16: ='Januar'!AG18 | G16: ='Februar'!AG18 | H16: ='März'!AG18 | I16: ='April'!AG18 | J16: ='Mai'!AG18 | K16: ='Juni'!AG18 | L16: ='Juli'!AG18 | M16: ='August'!AG18 | N16: ='September'!AG18 | O16: ='Oktober'!AG18 | P16: ='November'!AG18 | Q16: ='Dezember'!AG18 | R16: =SUM(F16:Q16) | S16: =IF(A16="","",E16-R16) | T16: ='Januar'!AH18+'Februar'!AH18+'März'!AH18+'April'!AH18+'Mai'!AH18+'Juni'!AH18+'Juli'!AH18+'August'!AH18+'September'!AH18+'Oktober'!AH18+'November'!AH18+'Dezember'!AH18
... E29: =IF(A29="","",C29+D29) | F29: ='Januar'!AG31 | G29: ='Februar'!AG31 | H29: ='März'!AG31 | I29: ='April'!AG31 | J29: ='Mai'!AG31 | K29: ='Juni'!AG31 | L29: ='Juli'!AG31 | M29: ='August'!AG31 | N29: ='September'!AG31 | O29: ='Oktober'!AG31 | P29: ='November'!AG31 | Q29: ='Dezember'!AG31 | R29: =SUM(F29:Q29) | S29: =IF(A29="","",E29-R29) | T29: ='Januar'!AH31+'Februar'!AH31+'März'!AH31+'April'!AH31+'Mai'!AH31+'Juni'!AH31+'Juli'!AH31+'August'!AH31+'September'!AH31+'Oktober'!AH31+'November'!AH31+'Dezember'!AH31
A31: Gelb hinterlegte Felder ausfüllen; alles andere rechnet automatisch.

Sheet Feiertage
A1: Gesetzliche Feiertage 2027 nach Bundesland
A2: x = gesetzlicher Feiertag im ganzen Bundesland. Spalte T: gilt im gewählten Bundesland (Start!C5).
D3: Baden-Württemberg | E3: Bayern | F3: Berlin | G3: Brandenburg | H3: Bremen | I3: Hamburg | J3: Hessen | K3: Mecklenburg-Vorpommern | L3: Niedersachsen | M3: Nordrhein-Westfalen | N3: Rheinland-Pfalz | O3: Saarland | P3: Sachsen | Q3: Sachsen-Anhalt | R3: Schleswig-Holstein | S3: Thüringen
A4: Datum | B4: Feiertag | C4: Tag | D4: BW | E4: BY | F4: BE | G4: BB | H4: HB | I4: HH | J4: HE | K4: MV | L4: NI | M4: NW | N4: RP | O4: SL | P4: SN | Q4: ST | R4: SH | S4: TH | T4: Im Bundesland
A5: 46388 | B5: Neujahr | C5: Fr | D5: x | E5: x | F5: x | G5: x | H5: x | I5: x | J5: x | K5: x | L5: x | M5: x | N5: x | O5: x | P5: x | Q5: x | R5: x | S5: x | T5: =IF(IFERROR(INDEX($D5:$S5,MATCH(Start!$C$5,$D$3:$S$3,0))="x",COUNTIF($D5:$S5,"x")=16),A5,"")
A6: 46393 | B6: Heilige Drei Könige | C6: Mi | D6: x | E6: x | Q6: x | T6: =IF(IFERROR(INDEX($D6:$S6,MATCH(Start!$C$5,$D$3:$S$3,0))="x",COUNTIF($D6:$S6,"x")=16),A6,"")
A7: 46454 | B7: Internationaler Frauentag | C7: Mo | F7: x | K7: x | T7: =IF(IFERROR(INDEX($D7:$S7,MATCH(Start!$C$5,$D$3:$S$3,0))="x",COUNTIF($D7:$S7,"x")=16),A7,"")
A8: 46472 | B8: Karfreitag | C8: Fr | D8: x | E8: x | F8: x | G8: x | H8: x | I8: x | J8: x | K8: x | L8: x | M8: x | N8: x | O8: x | P8: x | Q8: x | R8: x | S8: x | T8: =IF(IFERROR(INDEX($D8:$S8,MATCH(Start!$C$5,$D$3:$S$3,0))="x",COUNTIF($D8:$S8,"x")=16),A8,"")
A9: 46474 | B9: Ostersonntag | C9: So | G9: x | T9: =IF(IFERROR(INDEX($D9:$S9,MATCH(Start!$C$5,$D$3:$S$3,0))="x",COUNTIF($D9:$S9,"x")=16),A9,"")
A10: 46475 | B10: Ostermontag | C10: Mo | D10: x | E10: x | F10: x | G10: x | H10: x | I10: x | J10: x | K10: x | L10: x | M10: x | N10: x | O10: x | P10: x | Q10: x | R10: x | S10: x | T10: =IF(IFERROR(INDEX($D10:$S10,MATCH(Start!$C$5,$D$3:$S$3,0))="x",COUNTIF($D10:$S10,"x")=16),A10,"")
A11: 46508 | B11: Tag der Arbeit | C11: Sa | D11: x | E11: x | F11: x | G11: x | H11: x | I11: x | J11: x | K11: x | L11: x | M11: x | N11: x | O11: x | P11: x | Q11: x | R11: x | S11: x | T11: =IF(IFERROR(INDEX($D11:$S11,MATCH(Start!$C$5,$D$3:$S$3,0))="x",COUNTIF($D11:$S11,"x")=16),A11,"")
A12: 46513 | B12: Christi Himmelfahrt | C12: Do | D12: x | E12: x | F12: x | G12: x | H12: x | I12: x | J12: x | K12: x | L12: x | M12: x | N12: x | O12: x | P12: x | Q12: x | R12: x | S12: x | T12: =IF(IFERROR(INDEX($D12:$S12,MATCH(Start!$C$5,$D$3:$S$3,0))="x",COUNTIF($D12:$S12,"x")=16),A12,"")
A13: 46523 | B13: Pfingstsonntag | C13: So | G13: x | T13: =IF(IFERROR(INDEX($D13:$S13,MATCH(Start!$C$5,$D$3:$S$3,0))="x",COUNTIF($D13:$S13,"x")=16),A13,"")
A14: 46524 | B14: Pfingstmontag | C14: Mo | D14: x | E14: x | F14: x | G14: x | H14: x | I14: x | J14: x | K14: x | L14: x | M14: x | N14: x | O14: x | P14: x | Q14: x | R14: x | S14: x | T14: =IF(IFERROR(INDEX($D14:$S14,MATCH(Start!$C$5,$D$3:$S$3,0))="x",COUNTIF($D14:$S14,"x")=16),A14,"")
A15: 46534 | B15: Fronleichnam | C15: Do | D15: x | E15: x | J15: x | M15: x | N15: x | O15: x | T15: =IF(IFERROR(INDEX($D15:$S15,MATCH(Start!$C$5,$D$3:$S$3,0))="x",COUNTIF($D15:$S15,"x")=16),A15,"")
A16: 46614 | B16: Mariä Himmelfahrt | C16: So | E16: x | O16: x | T16: =IF(IFERROR(INDEX($D16:$S16,MATCH(Start!$C$5,$D$3:$S$3,0))="x",COUNTIF($D16:$S16,"x")=16),A16,"")
A17: 46650 | B17: Weltkindertag | C17: Mo | S17: x | T17: =IF(IFERROR(INDEX($D17:$S17,MATCH(Start!$C$5,$D$3:$S$3,0))="x",COUNTIF($D17:$S17,"x")=16),A17,"")
A18: 46663 | B18: Tag der Deutschen Einheit | C18: So | D18: x | E18: x | F18: x | G18: x | H18: x | I18: x | J18: x | K18: x | L18: x | M18: x | N18: x | O18: x | P18: x | Q18: x | R18: x | S18: x | T18: =IF(IFERROR(INDEX($D18:$S18,MATCH(Start!$C$5,$D$3:$S$3,0))="x",COUNTIF($D18:$S18,"x")=16),A18,"")
A19: 46691 | B19: Reformationstag | C19: So | G19: x | H19: x | I19: x | K19: x | L19: x | P19: x | Q19: x | R19: x | S19: x | T19: =IF(IFERROR(INDEX($D19:$S19,MATCH(Start!$C$5,$D$3:$S$3,0))="x",COUNTIF($D19:$S19,"x")=16),A19,"")
A20: 46692 | B20: Allerheiligen | C20: Mo | D20: x | E20: x | M20: x | N20: x | O20: x | T20: =IF(IFERROR(INDEX($D20:$S20,MATCH(Start!$C$5,$D$3:$S$3,0))="x",COUNTIF($D20:$S20,"x")=16),A20,"")
A21: 46708 | B21: Buß- und Bettag | C21: Mi | P21: x | T21: =IF(IFERROR(INDEX($D21:$S21,MATCH(Start!$C$5,$D$3:$S$3,0))="x",COUNTIF($D21:$S21,"x")=16),A21,"")
A22: 46746 | B22: 1. Weihnachtstag | C22: Sa | D22: x | E22: x | F22: x | G22: x | H22: x | I22: x | J22: x | K22: x | L22: x | M22: x | N22: x | O22: x | P22: x | Q22: x | R22: x | S22: x | T22: =IF(IFERROR(INDEX($D22:$S22,MATCH(Start!$C$5,$D$3:$S$3,0))="x",COUNTIF($D22:$S22,"x")=16),A22,"")
A23: 46747 | B23: 2. Weihnachtstag | C23: So | D23: x | E23: x | F23: x | G23: x | H23: x | I23: x | J23: x | K23: x | L23: x | M23: x | N23: x | O23: x | P23: x | Q23: x | R23: x | S23: x | T23: =IF(IFERROR(INDEX($D23:$S23,MATCH(Start!$C$5,$D$3:$S$3,0))="x",COUNTIF($D23:$S23,"x")=16),A23,"")

Sheet Januar
A1: Januar 2027 | N1: Urlaubsplanung digital mit flair
A2: ="Bundesland: "&Start!C5
A3: Arbeitstag (1/0) | B3: =IF(COUNTIF(Feiertage!$T$5:$T$23,B$4)>0,0,1) | C3: 0 | D3: 0 | E3: =IF(COUNTIF(Feiertage!$T$5:$T$23,E$4)>0,0,1) | F3: =IF(COUNTIF(Feiertage!$T$5:$T$23,F$4)>0,0,1) | G3: =IF(COUNTIF(Feiertage!$T$5:$T$23,G$4)>0,0,1) | H3: =IF(COUNTIF(Feiertage!$T$5:$T$23,H$4)>0,0,1) | I3: =IF(COUNTIF(Feiertage!$T$5:$T$23,I$4)>0,0,1) | J3: 0 | K3: 0 | L3: =IF(COUNTIF(Feiertage!$T$5:$T$23,L$4)>0,0,1) | M3: =IF(COUNTIF(Feiertage!$T$5:$T$23,M$4)>0,0,1) | N3: =IF(COUNTIF(Feiertage!$T$5:$T$23,N$4)>0,0,1) | O3: =IF(COUNTIF(Feiertage!$T$5:$T$23,O$4)>0,0,1) | P3: =IF(COUNTIF(Feiertage!$T$5:$T$23,P$4)>0,0,1) | Q3: 0 | R3: 0 | S3: =IF(COUNTIF(Feiertage!$T$5:$T$23,S$4)>0,0,1) | T3: =IF(COUNTIF(Feiertage!$T$5:$T$23,T$4)>0,0,1) | U3: =IF(COUNTIF(Feiertage!$T$5:$T$23,U$4)>0,0,1) | V3: =IF(COUNTIF(Feiertage!$T$5:$T$23,V$4)>0,0,1) | W3: =IF(COUNTIF(Feiertage!$T$5:$T$23,W$4)>0,0,1) | X3: 0 | Y3: 0 | Z3: =IF(COUNTIF(Feiertage!$T$5:$T$23,Z$4)>0,0,1) | AA3: =IF(COUNTIF(Feiertage!$T$5:$T$23,AA$4)>0,0,1) | AB3: =IF(COUNTIF(Feiertage!$T$5:$T$23,AB$4)>0,0,1) | AC3: =IF(COUNTIF(Feiertage!$T$5:$T$23,AC$4)>0,0,1) | AD3: =IF(COUNTIF(Feiertage!$T$5:$T$23,AD$4)>0,0,1) | AE3: 0 | AF3: 0
A4: Datum | B4: 46388 | C4: 46389 | D4: 46390 | E4: 46391 | F4: 46392 | G4: 46393 | H4: 46394 | I4: 46395 | J4: 46396 | K4: 46397 | L4: 46398 | M4: 46399 | N4: 46400 | O4: 46401 | P4: 46402 | Q4: 46403 | R4: 46404 | S4: 46405 | T4: 46406 | U4: 46407 | V4: 46408 | W4: 46409 | X4: 46410 | Y4: 46411 | Z4: 46412 | AA4: 46413 | AB4: 46414 | AC4: 46415 | AD4: 46416 | AE4: 46417 | AF4: 46418 | AG4: Urlaub | AH4: Krank | AI4: Sonst.
A5: Wochentag | B5: Fr | C5: Sa | D5: So | E5: Mo | F5: Di | G5: Mi | H5: Do | I5: Fr | J5: Sa | K5: So | L5: Mo | M5: Di | N5: Mi | O5: Do | P5: Fr | Q5: Sa | R5: So | S5: Mo | T5: Di | U5: Mi | V5: Do | W5: Fr | X5: Sa | Y5: So | Z5: Mo | AA5: Di | AB5: Mi | AC5: Do | AD5: Fr | AE5: Sa | AF5: So
A6: Feiertag | B6: =IFERROR(INDEX(Feiertage!$B$5:$B$23,MATCH(B$4,Feiertage!$T$5:$T$23,0)),"") | C6: =IFERROR(INDEX(Feiertage!$B$5:$B$23,MATCH(C$4,Feiertage!$T$5:$T$23,0)),"") | D6: =IFERROR(INDEX(Feiertage!$B$5:$B$23,MATCH(D$4,Feiertage!$T$5:$T$23,0)),"") | E6: =IFERROR(INDEX(Feiertage!$B$5:$B$23,MATCH(E$4,Feiertage!$T$5:$T$23,0)),"") | F6: =IFERROR(INDEX(Feiertage!$B$5:$B$23,MATCH(F$4,Feiertage!$T$5:$T$23,0)),"") | G6: =IFERROR(INDEX(Feiertage!$B$5:$B$23,MATCH(G$4,Feiertage!$T$5:$T$23,0)),"") | H6: =IFERROR(INDEX(Feiertage!$B$5:$B$23,MATCH(H$4,Feiertage!$T$5:$T$23,0)),"") | I6: =IFERROR(INDEX(Feiertage!$B$5:$B$23,MATCH(I$4,Feiertage!$T$5:$T$23,0)),"") | ... AF6: =IFERROR(INDEX(Feiertage!$B$5:$B$23,MATCH(AF$4,Feiertage!$T$5:$T$23,0)),"")
A7: =IF(Jahresübersicht!A5="","",Jahresübersicht!A5) | AG7: =SUMPRODUCT((B7:AF7="U")*$B$3:$AF$3)+0.5*SUMPRODUCT((B7:AF7="H")*$B$3:$AF$3) | AH7: =SUMPRODUCT((B7:AF7="K")*$B$3:$AF$3) | AI7: =SUMPRODUCT(((B7:AF7="S")+(B7:AF7="Z"))*$B$3:$AF$3)
A8: =IF(Jahresübersicht!A6="","",Jahresübersicht!A6) | AG8: =SUMPRODUCT((B8:AF8="U")*$B$3:$AF$3)+0.5*SUMPRODUCT((B8:AF8="H")*$B$3:$AF$3) | AH8: =SUMPRODUCT((B8:AF8="K")*$B$3:$AF$3) | AI8: =SUMPRODUCT(((B8:AF8="S")+(B8:AF8="Z"))*$B$3:$AF$3)
A9: =IF(Jahresübersicht!A7="","",Jahresübersicht!A7) | AG9: =SUMPRODUCT((B9:AF9="U")*$B$3:$AF$3)+0.5*SUMPRODUCT((B9:AF9="H")*$B$3:$AF$3) | AH9: =SUMPRODUCT((B9:AF9="K")*$B$3:$AF$3) | AI9: =SUMPRODUCT(((B9:AF9="S")+(B9:AF9="Z"))*$B$3:$AF$3)
A10: =IF(Jahresübersicht!A8="","",Jahresübersicht!A8) | AG10: =SUMPRODUCT((B10:AF10="U")*$B$3:$AF$3)+0.5*SUMPRODUCT((B10:AF10="H")*$B$3:$AF$3) | AH10: =SUMPRODUCT((B10:AF10="K")*$B$3:$AF$3) | AI10: =SUMPRODUCT(((B10:AF10="S")+(B10:AF10="Z"))*$B$3:$AF$3)
A11: =IF(Jahresübersicht!A9="","",Jahresübersicht!A9) | AG11: =SUMPRODUCT((B11:AF11="U")*$B$3:$AF$3)+0.5*SUMPRODUCT((B11:AF11="H")*$B$3:$AF$3) | AH11: =SUMPRODUCT((B11:AF11="K")*$B$3:$AF$3) | AI11: =SUMPRODUCT(((B11:AF11="S")+(B11:AF11="Z"))*$B$3:$AF$3)
A12: =IF(Jahresübersicht!A10="","",Jahresübersicht!A10) | AG12: =SUMPRODUCT((B12:AF12="U")*$B$3:$AF$3)+0.5*SUMPRODUCT((B12:AF12="H")*$B$3:$AF$3) | AH12: =SUMPRODUCT((B12:AF12="K")*$B$3:$AF$3) | AI12: =SUMPRODUCT(((B12:AF12="S")+(B12:AF12="Z"))*$B$3:$AF$3)
A13: =IF(Jahresübersicht!A11="","",Jahresübersicht!A11) | AG13: =SUMPRODUCT((B13:AF13="U")*$B$3:$AF$3)+0.5*SUMPRODUCT((B13:AF13="H")*$B$3:$AF$3) | AH13: =SUMPRODUCT((B13:AF13="K")*$B$3:$AF$3) | AI13: =SUMPRODUCT(((B13:AF13="S")+(B13:AF13="Z"))*$B$3:$AF$3)
A14: =IF(Jahresübersicht!A12="","",Jahresübersicht!A12) | AG14: =SUMPRODUCT((B14:AF14="U")*$B$3:$AF$3)+0.5*SUMPRODUCT((B14:AF14="H")*$B$3:$AF$3) | AH14: =SUMPRODUCT((B14:AF14="K")*$B$3:$AF$3) | AI14: =SUMPRODUCT(((B14:AF14="S")+(B14:AF14="Z"))*$B$3:$AF$3)
A15: =IF(Jahresübersicht!A13="","",Jahresübersicht!A13) | AG15: =SUMPRODUCT((B15:AF15="U")*$B$3:$AF$3)+0.5*SUMPRODUCT((B15:AF15="H")*$B$3:$AF$3) | AH15: =SUMPRODUCT((B15:AF15="K")*$B$3:$AF$3) | AI15: =SUMPRODUCT(((B15:AF15="S")+(B15:AF15="Z"))*$B$3:$AF$3)
A16: =IF(Jahresübersicht!A14="","",Jahresübersicht!A14) | AG16: =SUMPRODUCT((B16:AF16="U")*$B$3:$AF$3)+0.5*SUMPRODUCT((B16:AF16="H")*$B$3:$AF$3) | AH16: =SUMPRODUCT((B16:AF16="K")*$B$3:$AF$3) | AI16: =SUMPRODUCT(((B16:AF16="S")+(B16:AF16="Z"))*$B$3:$AF$3)
A17: =IF(Jahresübersicht!A15="","",Jahresübersicht!A15) | AG17: =SUMPRODUCT((B17:AF17="U")*$B$3:$AF$3)+0.5*SUMPRODUCT((B17:AF17="H")*$B$3:$AF$3) | AH17: =SUMPRODUCT((B17:AF17="K")*$B$3:$AF$3) | AI17: =SUMPRODUCT(((B17:AF17="S")+(B17:AF17="Z"))*$B$3:$AF$3)
A18: =IF(Jahresübersicht!A16="","",Jahresübersicht!A16) | AG18: =SUMPRODUCT((B18:AF18="U")*$B$3:$AF$3)+0.5*SUMPRODUCT((B18:AF18="H")*$B$3:$AF$3) | AH18: =SUMPRODUCT((B18:AF18="K")*$B$3:$AF$3) | AI18: =SUMPRODUCT(((B18:AF18="S")+(B18:AF18="Z"))*$B$3:$AF$3)
... A31: =IF(Jahresübersicht!A29="","",Jahresübersicht!A29) | AG31: =SUMPRODUCT((B31:AF31="U")*$B$3:$AF$3)+0.5*SUMPRODUCT((B31:AF31="H")*$B$3:$AF$3) | AH31: =SUMPRODUCT((B31:AF31="K")*$B$3:$AF$3) | AI31: =SUMPRODUCT(((B31:AF31="S")+(B31:AF31="Z"))*$B$3:$AF$3)

Sheet Februar
A1: Februar 2027 | N1: Urlaubsplanung digital mit flair
A2: ="Bundesland: "&Start!C5
A3: Arbeitstag (1/0) | B3: =IF(COUNTIF(Feiertage!$T$5:$T$23,B$4)>0,0,1) | C3: =IF(COUNTIF(Feiertage!$T$5:$T$23,C$4)>0,0,1) | D3: =IF(COUNTIF(Feiertage!$T$5:$T$23,D$4)>0,0,1) | E3: =IF(COUNTIF(Feiertage!$T$5:$T$23,E$4)>0,0,1) | F3: =IF(COUNTIF(Feiertage!$T$5:$T$23,F$4)>0,0,1) | G3: 0 | H3: 0 | I3: =IF(COUNTIF(Feiertage!$T$5:$T$23,I$4)>0,0,1) | J3: =IF(COUNTIF(Feiertage!$T$5:$T$23,J$4)>0,0,1) | K3: =IF(COUNTIF(Feiertage!$T$5:$T$23,K$4)>0,0,1) | L3: =IF(COUNTIF(Feiertage!$T$5:$T$23,L$4)>0,0,1) | M3: =IF(COUNTIF(Feiertage!$T$5:$T$23,M$4)>0,0,1) | N3: 0 | O3: 0 | P3: =IF(COUNTIF(Feiertage!$T$5:$T$23,P$4)>0,0,1) | Q3: =IF(COUNTIF(Feiertage!$T$5:$T$23,Q$4)>0,0,1) | R3: =IF(COUNTIF(Feiertage!$T$5:$T$23,R$4)>0,0,1) | S3: =IF(COUNTIF(Feiertage!$T$5:$T$23,S$4)>0,0,1) | T3: =IF(COUNTIF(Feiertage!$T$5:$T$23,T$4)>0,0,1) | U3: 0 | V3: 0 | W3: =IF(COUNTIF(Feiertage!$T$5:$T$23,W$4)>0,0,1) | X3: =IF(COUNTIF(Feiertage!$T$5:$T$23,X$4)>0,0,1) | Y3: =IF(COUNTIF(Feiertage!$T$5:$T$23,Y$4)>0,0,1) | Z3: =IF(COUNTIF(Feiertage!$T$5:$T$23,Z$4)>0,0,1) | AA3: =IF(COUNTIF(Feiertage!$T$5:$T$23,AA$4)>0,0,1) | AB3: 0 | AC3: 0 | AD3: 0 | AE3: 0 | AF3: 0
A4: Datum | B4: 46419 | C4: 46420 | D4: 46421 | E4: 46422 | F4: 46423 | G4: 46424 | H4: 46425 | I4: 46426 | J4: 46427 | K4: 46428 | L4: 46429 | M4: 46430 | N4: 46431 | O4: 46432 | P4: 46433 | Q4: 46434 | R4: 46435 | S4: 46436 | T4: 46437 | U4: 46438 | V4: 46439 | W4: 46440 | X4: 46441 | Y4: 46442 | Z4: 46443 | AA4: 46444 | AB4: 46445 | AC4: 46446 | AG4: Urlaub | AH4: Krank | AI4: Sonst.
A5: Wochentag | B5: Mo | C5: Di | D5: Mi | E5: Do | F5: Fr | G5: Sa | H5: So | I5: Mo | J5: Di | K5: Mi | L5: Do | M5: Fr | N5: Sa | O5: So | P5: Mo | Q5: Di | R5: Mi | S5: Do | T5: Fr | U5: Sa | V5: So | W5: Mo | X5: Di | Y5: Mi | Z5: Do | AA5: Fr | AB5: Sa | AC5: So
A6: Feiertag | B6: =IFERROR(INDEX(Feiertage!$B$5:$B$23,MATCH(B$4,Feiertage!$T$5:$T$23,0)),"") | C6: =IFERROR(INDEX(Feiertage!$B$5:$B$23,MATCH(C$4,Feiertage!$T$5:$T$23,0)),"") | D6: =IFERROR(INDEX(Feiertage!$B$5:$B$23,MATCH(D$4,Feiertage!$T$5:$T$23,0)),"") | E6: =IFERROR(INDEX(Feiertage!$B$5:$B$23,MATCH(E$4,Feiertage!$T$5:$T$23,0)),"") | F6: =IFERROR(INDEX(Feiertage!$B$5:$B$23,MATCH(F$4,Feiertage!$T$5:$T$23,0)),"") | G6: =IFERROR(INDEX(Feiertage!$B$5:$B$23,MATCH(G$4,Feiertage!$T$5:$T$23,0)),"") | H6: =IFERROR(INDEX(Feiertage!$B$5:$B$23,MATCH(H$4,Feiertage!$T$5:$T$23,0)),"") | I6: =IFERROR(INDEX(Feiertage!$B$5:$B$23,MATCH(I$4,Feiertage!$T$5:$T$23,0)),"") | ... AC6: =IFERROR(INDEX(Feiertage!$B$5:$B$23,MATCH(AC$4,Feiertage!$T$5:$T$23,0)),"")
A7: =IF(Jahresübersicht!A5="","",Jahresübersicht!A5) | AG7: =SUMPRODUCT((B7:AF7="U")*$B$3:$AF$3)+0.5*SUMPRODUCT((B7:AF7="H")*$B$3:$AF$3) | AH7: =SUMPRODUCT((B7:AF7="K")*$B$3:$AF$3) | AI7: =SUMPRODUCT(((B7:AF7="S")+(B7:AF7="Z"))*$B$3:$AF$3)
A8: =IF(Jahresübersicht!A6="","",Jahresübersicht!A6) | AG8: =SUMPRODUCT((B8:AF8="U")*$B$3:$AF$3)+0.5*SUMPRODUCT((B8:AF8="H")*$B$3:$AF$3) | AH8: =SUMPRODUCT((B8:AF8="K")*$B$3:$AF$3) | AI8: =SUMPRODUCT(((B8:AF8="S")+(B8:AF8="Z"))*$B$3:$AF$3)
A9: =IF(Jahresübersicht!A7="","",Jahresübersicht!A7) | AG9: =SUMPRODUCT((B9:AF9="U")*$B$3:$AF$3)+0.5*SUMPRODUCT((B9:AF9="H")*$B$3:$AF$3) | AH9: =SUMPRODUCT((B9:AF9="K")*$B$3:$AF$3) | AI9: =SUMPRODUCT(((B9:AF9="S")+(B9:AF9="Z"))*$B$3:$AF$3)
A10: =IF(Jahresübersicht!A8="","",Jahresübersicht!A8) | AG10: =SUMPRODUCT((B10:AF10="U")*$B$3:$AF$3)+0.5*SUMPRODUCT((B10:AF10="H")*$B$3:$AF$3) | AH10: =SUMPRODUCT((B10:AF10="K")*$B$3:$AF$3) | AI10: =SUMPRODUCT(((B10:AF10="S")+(B10:AF10="Z"))*$B$3:$AF$3)
A11: =IF(Jahresübersicht!A9="","",Jahresübersicht!A9) | AG11: =SUMPRODUCT((B11:AF11="U")*$B$3:$AF$3)+0.5*SUMPRODUCT((B11:AF11="H")*$B$3:$AF$3) | AH11: =SUMPRODUCT((B11:AF11="K")*$B$3:$AF$3) | AI11: =SUMPRODUCT(((B11:AF11="S")+(B11:AF11="Z"))*$B$3:$AF$3)
A12: =IF(Jahresübersicht!A10="","",Jahresübersicht!A10) | AG12: =SUMPRODUCT((B12:AF12="U")*$B$3:$AF$3)+0.5*SUMPRODUCT((B12:AF12="H")*$B$3:$AF$3) | AH12: =SUMPRODUCT((B12:AF12="K")*$B$3:$AF$3) | AI12: =SUMPRODUCT(((B12:AF12="S")+(B12:AF12="Z"))*$B$3:$AF$3)
A13: =IF(Jahresübersicht!A11="","",Jahresübersicht!A11) | AG13: =SUMPRODUCT((B13:AF13="U")*$B$3:$AF$3)+0.5*SUMPRODUCT((B13:AF13="H")*$B$3:$AF$3) | AH13: =SUMPRODUCT((B13:AF13="K")*$B$3:$AF$3) | AI13: =SUMPRODUCT(((B13:AF13="S")+(B13:AF13="Z"))*$B$3:$AF$3)
A14: =IF(Jahresübersicht!A12="","",Jahresübersicht!A12) | AG14: =SUMPRODUCT((B14:AF14="U")*$B$3:$AF$3)+0.5*SUMPRODUCT((B14:AF14="H")*$B$3:$AF$3) | AH14: =SUMPRODUCT((B14:AF14="K")*$B$3:$AF$3) | AI14: =SUMPRODUCT(((B14:AF14="S")+(B14:AF14="Z"))*$B$3:$AF$3)
A15: =IF(Jahresübersicht!A13="","",Jahresübersicht!A13) | AG15: =SUMPRODUCT((B15:AF15="U")*$B$3:$AF$3)+0.5*SUMPRODUCT((B15:AF15="H")*$B$3:$AF$3) | AH15: =SUMPRODUCT((B15:AF15="K")*$B$3:$AF$3) | AI15: =SUMPRODUCT(((B15:AF15="S")+(B15:AF15="Z"))*$B$3:$AF$3)
A16: =IF(Jahresübersicht!A14="","",Jahresübersicht!A14) | AG16: =SUMPRODUCT((B16:AF16="U")*$B$3:$AF$3)+0.5*SUMPRODUCT((B16:AF16="H")*$B$3:$AF$3) | AH16: =SUMPRODUCT((B16:AF16="K")*$B$3:$AF$3) | AI16: =SUMPRODUCT(((B16:AF16="S")+(B16:AF16="Z"))*$B$3:$AF$3)
A17: =IF(Jahresübersicht!A15="","",Jahresübersicht!A15) | AG17: =SUMPRODUCT((B17:AF17="U")*$B$3:$AF$3)+0.5*SUMPRODUCT((B17:AF17="H")*$B$3:$AF$3) | AH17: =SUMPRODUCT((B17:AF17="K")*$B$3:$AF$3) | AI17: =SUMPRODUCT(((B17:AF17="S")+(B17:AF17="Z"))*$B$3:$AF$3)
A18: =IF(Jahresübersicht!A16="","",Jahresübersicht!A16) | AG18: =SUMPRODUCT((B18:AF18="U")*$B$3:$AF$3)+0.5*SUMPRODUCT((B18:AF18="H")*$B$3:$AF$3) | AH18: =SUMPRODUCT((B18:AF18="K")*$B$3:$AF$3) | AI18: =SUMPRODUCT(((B18:AF18="S")+(B18:AF18="Z"))*$B$3:$AF$3)
... A31: =IF(Jahresübersicht!A29="","",Jahresübersicht!A29) | AG31: =SUMPRODUCT((B31:AF31="U")*$B$3:$AF$3)+0.5*SUMPRODUCT((B31:AF31="H")*$B$3:$AF$3) | AH31: =SUMPRODUCT((B31:AF31="K")*$B$3:$AF$3) | AI31: =SUMPRODUCT(((B31:AF31="S")+(B31:AF31="Z"))*$B$3:$AF$3)

Sheet März
A1: März 2027 | N1: Urlaubsplanung digital mit flair
A2: ="Bundesland: "&Start!C5
A3: Arbeitstag (1/0) | B3: =IF(COUNTIF(Feiertage!$T$5:$T$23,B$4)>0,0,1) | C3: =IF(COUNTIF(Feiertage!$T$5:$T$23,C$4)>0,0,1) | D3: =IF(COUNTIF(Feiertage!$T$5:$T$23,D$4)>0,0,1) | E3: =IF(COUNTIF(Feiertage!$T$5:$T$23,E$4)>0,0,1) | F3: =IF(COUNTIF(Feiertage!$T$5:$T$23,F$4)>0,0,1) | G3: 0 | H3: 0 | I3: =IF(COUNTIF(Feiertage!$T$5:$T$23,I$4)>0,0,1) | J3: =IF(COUNTIF(Feiertage!$T$5:$T$23,J$4)>0,0,1) | K3: =IF(COUNTIF(Feiertage!$T$5:$T$23,K$4)>0,0,1) | L3: =IF(COUNTIF(Feiertage!$T$5:$T$23,L$4)>0,0,1) | M3: =IF(COUNTIF(Feiertage!$T$5:$T$23,M$4)>0,0,1) | N3: 0 | O3: 0 | P3: =IF(COUNTIF(Feiertage!$T$5:$T$23,P$4)>0,0,1) | Q3: =IF(COUNTIF(Feiertage!$T$5:$T$23,Q$4)>0,0,1) | R3: =IF(COUNTIF(Feiertage!$T$5:$T$23,R$4)>0,0,1) | S3: =IF(COUNTIF(Feiertage!$T$5:$T$23,S$4)>0,0,1) | T3: =IF(COUNTIF(Feiertage!$T$5:$T$23,T$4)>0,0,1) | U3: 0 | V3: 0 | W3: =IF(COUNTIF(Feiertage!$T$5:$T$23,W$4)>0,0,1) | X3: =IF(COUNTIF(Feiertage!$T$5:$T$23,X$4)>0,0,1) | Y3: =IF(COUNTIF(Feiertage!$T$5:$T$23,Y$4)>0,0,1) | Z3: =IF(COUNTIF(Feiertage!$T$5:$T$23,Z$4)>0,0,1) | AA3: =IF(COUNTIF(Feiertage!$T$5:$T$23,AA$4)>0,0,1) | AB3: 0 | AC3: 0 | AD3: =IF(COUNTIF(Feiertage!$T$5:$T$23,AD$4)>0,0,1) | AE3: =IF(COUNTIF(Feiertage!$T$5:$T$23,AE$4)>0,0,1) | AF3: =IF(COUNTIF(Feiertage!$T$5:$T$23,AF$4)>0,0,1)
A4: Datum | B4: 46447 | C4: 46448 | D4: 46449 | E4: 46450 | F4: 46451 | G4: 46452 | H4: 46453 | I4: 46454 | J4: 46455 | K4: 46456 | L4: 46457 | M4: 46458 | N4: 46459 | O4: 46460 | P4: 46461 | Q4: 46462 | R4: 46463 | S4: 46464 | T4: 46465 | U4: 46466 | V4: 46467 | W4: 46468 | X4: 46469 | Y4: 46470 | Z4: 46471 | AA4: 46472 | AB4: 46473 | AC4: 46474 | AD4: 46475 | AE4: 46476 | AF4: 46477 | AG4: Urlaub | AH4: Krank | AI4: Sonst.
A5: Wochentag | B5: Mo | C5: Di | D5: Mi | E5: Do | F5: Fr | G5: Sa | H5: So | I5: Mo | J5: Di | K5: Mi | L5: Do | M5: Fr | N5: Sa | O5: So | P5: Mo | Q5: Di | R5: Mi | S5: Do | T5: Fr | U5: Sa | V5: So | W5: Mo | X5: Di | Y5: Mi | Z5: Do | AA5: Fr | AB5: Sa | AC5: So | AD5: Mo | AE5: Di | AF5: Mi
A6: Feiertag | B6: =IFERROR(INDEX(Feiertage!$B$5:$B$23,MATCH(B$4,Feiertage!$T$5:$T$23,0)),"") | C6: =IFERROR(INDEX(Feiertage!$B$5:$B$23,MATCH(C$4,Feiertage!$T$5:$T$23,0)),"") | D6: =IFERROR(INDEX(Feiertage!$B$5:$B$23,MATCH(D$4,Feiertage!$T$5:$T$23,0)),"") | E6: =IFERROR(INDEX(Feiertage!$B$5:$B$23,MATCH(E$4,Feiertage!$T$5:$T$23,0)),"") | F6: =IFERROR(INDEX(Feiertage!$B$5:$B$23,MATCH(F$4,Feiertage!$T$5:$T$23,0)),"") | G6: =IFERROR(INDEX(Feiertage!$B$5:$B$23,MATCH(G$4,Feiertage!$T$5:$T$23,0)),"") | H6: =IFERROR(INDEX(Feiertage!$B$5:$B$23,MATCH(H$4,Feiertage!$T$5:$T$23,0)),"") | I6: =IFERROR(INDEX(Feiertage!$B$5:$B$23,MATCH(I$4,Feiertage!$T$5:$T$23,0)),"") | ... AF6: =IFERROR(INDEX(Feiertage!$B$5:$B$23,MATCH(AF$4,Feiertage!$T$5:$T$23,0)),"")
A7: =IF(Jahresübersicht!A5="","",Jahresübersicht!A5) | AG7: =SUMPRODUCT((B7:AF7="U")*$B$3:$AF$3)+0.5*SUMPRODUCT((B7:AF7="H")*$B$3:$AF$3) | AH7: =SUMPRODUCT((B7:AF7="K")*$B$3:$AF$3) | AI7: =SUMPRODUCT(((B7:AF7="S")+(B7:AF7="Z"))*$B$3:$AF$3)
A8: =IF(Jahresübersicht!A6="","",Jahresübersicht!A6) | AG8: =SUMPRODUCT((B8:AF8="U")*$B$3:$AF$3)+0.5*SUMPRODUCT((B8:AF8="H")*$B$3:$AF$3) | AH8: =SUMPRODUCT((B8:AF8="K")*$B$3:$AF$3) | AI8: =SUMPRODUCT(((B8:AF8="S")+(B8:AF8="Z"))*$B$3:$AF$3)
A9: =IF(Jahresübersicht!A7="","",Jahresübersicht!A7) | AG9: =SUMPRODUCT((B9:AF9="U")*$B$3:$AF$3)+0.5*SUMPRODUCT((B9:AF9="H")*$B$3:$AF$3) | AH9: =SUMPRODUCT((B9:AF9="K")*$B$3:$AF$3) | AI9: =SUMPRODUCT(((B9:AF9="S")+(B9:AF9="Z"))*$B$3:$AF$3)
A10: =IF(Jahresübersicht!A8="","",Jahresübersicht!A8) | AG10: =SUMPRODUCT((B10:AF10="U")*$B$3:$AF$3)+0.5*SUMPRODUCT((B10:AF10="H")*$B$3:$AF$3) | AH10: =SUMPRODUCT((B10:AF10="K")*$B$3:$AF$3) | AI10: =SUMPRODUCT(((B10:AF10="S")+(B10:AF10="Z"))*$B$3:$AF$3)
A11: =IF(Jahresübersicht!A9="","",Jahresübersicht!A9) | AG11: =SUMPRODUCT((B11:AF11="U")*$B$3:$AF$3)+0.5*SUMPRODUCT((B11:AF11="H")*$B$3:$AF$3) | AH11: =SUMPRODUCT((B11:AF11="K")*$B$3:$AF$3) | AI11: =SUMPRODUCT(((B11:AF11="S")+(B11:AF11="Z"))*$B$3:$AF$3)
A12: =IF(Jahresübersicht!A10="","",Jahresübersicht!A10) | AG12: =SUMPRODUCT((B12:AF12="U")*$B$3:$AF$3)+0.5*SUMPRODUCT((B12:AF12="H")*$B$3:$AF$3) | AH12: =SUMPRODUCT((B12:AF12="K")*$B$3:$AF$3) | AI12: =SUMPRODUCT(((B12:AF12="S")+(B12:AF12="Z"))*$B$3:$AF$3)
A13: =IF(Jahresübersicht!A11="","",Jahresübersicht!A11) | AG13: =SUMPRODUCT((B13:AF13="U")*$B$3:$AF$3)+0.5*SUMPRODUCT((B13:AF13="H")*$B$3:$AF$3) | AH13: =SUMPRODUCT((B13:AF13="K")*$B$3:$AF$3) | AI13: =SUMPRODUCT(((B13:AF13="S")+(B13:AF13="Z"))*$B$3:$AF$3)
A14: =IF(Jahresübersicht!A12="","",Jahresübersicht!A12) | AG14: =SUMPRODUCT((B14:AF14="U")*$B$3:$AF$3)+0.5*SUMPRODUCT((B14:AF14="H")*$B$3:$AF$3) | AH14: =SUMPRODUCT((B14:AF14="K")*$B$3:$AF$3) | AI14: =SUMPRODUCT(((B14:AF14="S")+(B14:AF14="Z"))*$B$3:$AF$3)
A15: =IF(Jahresübersicht!A13="","",Jahresübersicht!A13) | AG15: =SUMPRODUCT((B15:AF15="U")*$B$3:$AF$3)+0.5*SUMPRODUCT((B15:AF15="H")*$B$3:$AF$3) | AH15: =SUMPRODUCT((B15:AF15="K")*$B$3:$AF$3) | AI15: =SUMPRODUCT(((B15:AF15="S")+(B15:AF15="Z"))*$B$3:$AF$3)
A16: =IF(Jahresübersicht!A14="","",Jahresübersicht!A14) | AG16: =SUMPRODUCT((B16:AF16="U")*$B$3:$AF$3)+0.5*SUMPRODUCT((B16:AF16="H")*$B$3:$AF$3) | AH16: =SUMPRODUCT((B16:AF16="K")*$B$3:$AF$3) | AI16: =SUMPRODUCT(((B16:AF16="S")+(B16:AF16="Z"))*$B$3:$AF$3)
A17: =IF(Jahresübersicht!A15="","",Jahresübersicht!A15) | AG17: =SUMPRODUCT((B17:AF17="U")*$B$3:$AF$3)+0.5*SUMPRODUCT((B17:AF17="H")*$B$3:$AF$3) | AH17: =SUMPRODUCT((B17:AF17="K")*$B$3:$AF$3) | AI17: =SUMPRODUCT(((B17:AF17="S")+(B17:AF17="Z"))*$B$3:$AF$3)
A18: =IF(Jahresübersicht!A16="","",Jahresübersicht!A16) | AG18: =SUMPRODUCT((B18:AF18="U")*$B$3:$AF$3)+0.5*SUMPRODUCT((B18:AF18="H")*$B$3:$AF$3) | AH18: =SUMPRODUCT((B18:AF18="K")*$B$3:$AF$3) | AI18: =SUMPRODUCT(((B18:AF18="S")+(B18:AF18="Z"))*$B$3:$AF$3)
... A31: =IF(Jahresübersicht!A29="","",Jahresübersicht!A29) | AG31: =SUMPRODUCT((B31:AF31="U")*$B$3:$AF$3)+0.5*SUMPRODUCT((B31:AF31="H")*$B$3:$AF$3) | AH31: =SUMPRODUCT((B31:AF31="K")*$B$3:$AF$3) | AI31: =SUMPRODUCT(((B31:AF31="S")+(B31:AF31="Z"))*$B$3:$AF$3)

Sheet April
A1: April 2027 | N1: Urlaubsplanung digital mit flair
A2: ="Bundesland: "&Start!C5
A3: Arbeitstag (1/0) | B3: =IF(COUNTIF(Feiertage!$T$5:$T$23,B$4)>0,0,1) | C3: =IF(COUNTIF(Feiertage!$T$5:$T$23,C$4)>0,0,1) | D3: 0 | E3: 0 | F3: =IF(COUNTIF(Feiertage!$T$5:$T$23,F$4)>0,0,1) | G3: =IF(COUNTIF(Feiertage!$T$5:$T$23,G$4)>0,0,1) | H3: =IF(COUNTIF(Feiertage!$T$5:$T$23,H$4)>0,0,1) | I3: =IF(COUNTIF(Feiertage!$T$5:$T$23,I$4)>0,0,1) | J3: =IF(COUNTIF(Feiertage!$T$5:$T$23,J$4)>0,0,1) | K3: 0 | L3: 0 | M3: =IF(COUNTIF(Feiertage!$T$5:$T$23,M$4)>0,0,1) | N3: =IF(COUNTIF(Feiertage!$T$5:$T$23,N$4)>0,0,1) | O3: =IF(COUNTIF(Feiertage!$T$5:$T$23,O$4)>0,0,1) | P3: =IF(COUNTIF(Feiertage!$T$5:$T$23,P$4)>0,0,1) | Q3: =IF(COUNTIF(Feiertage!$T$5:$T$23,Q$4)>0,0,1) | R3: 0 | S3: 0 | T3: =IF(COUNTIF(Feiertage!$T$5:$T$23,T$4)>0,0,1) | U3: =IF(COUNTIF(Feiertage!$T$5:$T$23,U$4)>0,0,1) | V3: =IF(COUNTIF(Feiertage!$T$5:$T$23,V$4)>0,0,1) | W3: =IF(COUNTIF(Feiertage!$T$5:$T$23,W$4)>0,0,1) | X3: =IF(COUNTIF(Feiertage!$T$5:$T$23,X$4)>0,0,1) | Y3: 0 | Z3: 0 | AA3: =IF(COUNTIF(Feiertage!$T$5:$T$23,AA$4)>0,0,1) | AB3: =IF(COUNTIF(Feiertage!$T$5:$T$23,AB$4)>0,0,1) | AC3: =IF(COUNTIF(Feiertage!$T$5:$T$23,AC$4)>0,0,1) | AD3: =IF(COUNTIF(Feiertage!$T$5:$T$23,AD$4)>0,0,1) | AE3: =IF(COUNTIF(Feiertage!$T$5:$T$23,AE$4)>0,0,1) | AF3: 0
A4: Datum | B4: 46478 | C4: 46479 | D4: 46480 | E4: 46481 | F4: 46482 | G4: 46483 | H4: 46484 | I4: 46485 | J4: 46486 | K4: 46487 | L4: 46488 | M4: 46489 | N4: 46490 | O4: 46491 | P4: 46492 | Q4: 46493 | R4: 46494 | S4: 46495 | T4: 46496 | U4: 46497 | V4: 46498 | W4: 46499 | X4: 46500 | Y4: 46501 | Z4: 46502 | AA4: 46503 | AB4: 46504 | AC4: 46505 | AD4: 46506 | AE4: 46507 | AG4: Urlaub | AH4: Krank | AI4: Sonst.
A5: Wochentag | B5: Do | C5: Fr | D5: Sa | E5: So | F5: Mo | G5: Di | H5: Mi | I5: Do | J5: Fr | K5: Sa | L5: So | M5: Mo | N5: Di | O5: Mi | P5: Do | Q5: Fr | R5: Sa | S5: So | T5: Mo | U5: Di | V5: Mi | W5: Do | X5: Fr | Y5: Sa | Z5: So | AA5: Mo | AB5: Di | AC5: Mi | AD5: Do | AE5: Fr
A6: Feiertag | B6: =IFERROR(INDEX(Feiertage!$B$5:$B$23,MATCH(B$4,Feiertage!$T$5:$T$23,0)),"") | C6: =IFERROR(INDEX(Feiertage!$B$5:$B$23,MATCH(C$4,Feiertage!$T$5:$T$23,0)),"") | D6: =IFERROR(INDEX(Feiertage!$B$5:$B$23,MATCH(D$4,Feiertage!$T$5:$T$23,0)),"") | E6: =IFERROR(INDEX(Feiertage!$B$5:$B$23,MATCH(E$4,Feiertage!$T$5:$T$23,0)),"") | F6: =IFERROR(INDEX(Feiertage!$B$5:$B$23,MATCH(F$4,Feiertage!$T$5:$T$23,0)),"") | G6: =IFERROR(INDEX(Feiertage!$B$5:$B$23,MATCH(G$4,Feiertage!$T$5:$T$23,0)),"") | H6: =IFERROR(INDEX(Feiertage!$B$5:$B$23,MATCH(H$4,Feiertage!$T$5:$T$23,0)),"") | I6: =IFERROR(INDEX(Feiertage!$B$5:$B$23,MATCH(I$4,Feiertage!$T$5:$T$23,0)),"") | ... AE6: =IFERROR(INDEX(Feiertage!$B$5:$B$23,MATCH(AE$4,Feiertage!$T$5:$T$23,0)),"")
A7: =IF(Jahresübersicht!A5="","",Jahresübersicht!A5) | AG7: =SUMPRODUCT((B7:AF7="U")*$B$3:$AF$3)+0.5*SUMPRODUCT((B7:AF7="H")*$B$3:$AF$3) | AH7: =SUMPRODUCT((B7:AF7="K")*$B$3:$AF$3) | AI7: =SUMPRODUCT(((B7:AF7="S")+(B7:AF7="Z"))*$B$3:$AF$3)
A8: =IF(Jahresübersicht!A6="","",Jahresübersicht!A6) | AG8: =SUMPRODUCT((B8:AF8="U")*$B$3:$AF$3)+0.5*SUMPRODUCT((B8:AF8="H")*$B$3:$AF$3) | AH8: =SUMPRODUCT((B8:AF8="K")*$B$3:$AF$3) | AI8: =SUMPRODUCT(((B8:AF8="S")+(B8:AF8="Z"))*$B$3:$AF$3)
A9: =IF(Jahresübersicht!A7="","",Jahresübersicht!A7) | AG9: =SUMPRODUCT((B9:AF9="U")*$B$3:$AF$3)+0.5*SUMPRODUCT((B9:AF9="H")*$B$3:$AF$3) | AH9: =SUMPRODUCT((B9:AF9="K")*$B$3:$AF$3) | AI9: =SUMPRODUCT(((B9:AF9="S")+(B9:AF9="Z"))*$B$3:$AF$3)
A10: =IF(Jahresübersicht!A8="","",Jahresübersicht!A8) | AG10: =SUMPRODUCT((B10:AF10="U")*$B$3:$AF$3)+0.5*SUMPRODUCT((B10:AF10="H")*$B$3:$AF$3) | AH10: =SUMPRODUCT((B10:AF10="K")*$B$3:$AF$3) | AI10: =SUMPRODUCT(((B10:AF10="S")+(B10:AF10="Z"))*$B$3:$AF$3)
A11: =IF(Jahresübersicht!A9="","",Jahresübersicht!A9) | AG11: =SUMPRODUCT((B11:AF11="U")*$B$3:$AF$3)+0.5*SUMPRODUCT((B11:AF11="H")*$B$3:$AF$3) | AH11: =SUMPRODUCT((B11:AF11="K")*$B$3:$AF$3) | AI11: =SUMPRODUCT(((B11:AF11="S")+(B11:AF11="Z"))*$B$3:$AF$3)
A12: =IF(Jahresübersicht!A10="","",Jahresübersicht!A10) | AG12: =SUMPRODUCT((B12:AF12="U")*$B$3:$AF$3)+0.5*SUMPRODUCT((B12:AF12="H")*$B$3:$AF$3) | AH12: =SUMPRODUCT((B12:AF12="K")*$B$3:$AF$3) | AI12: =SUMPRODUCT(((B12:AF12="S")+(B12:AF12="Z"))*$B$3:$AF$3)
A13: =IF(Jahresübersicht!A11="","",Jahresübersicht!A11) | AG13: =SUMPRODUCT((B13:AF13="U")*$B$3:$AF$3)+0.5*SUMPRODUCT((B13:AF13="H")*$B$3:$AF$3) | AH13: =SUMPRODUCT((B13:AF13="K")*$B$3:$AF$3) | AI13: =SUMPRODUCT(((B13:AF13="S")+(B13:AF13="Z"))*$B$3:$AF$3)
A14: =IF(Jahresübersicht!A12="","",Jahresübersicht!A12) | AG14: =SUMPRODUCT((B14:AF14="U")*$B$3:$AF$3)+0.5*SUMPRODUCT((B14:AF14="H")*$B$3:$AF$3) | AH14: =SUMPRODUCT((B14:AF14="K")*$B$3:$AF$3) | AI14: =SUMPRODUCT(((B14:AF14="S")+(B14:AF14="Z"))*$B$3:$AF$3)
A15: =IF(Jahresübersicht!A13="","",Jahresübersicht!A13) | AG15: =SUMPRODUCT((B15:AF15="U")*$B$3:$AF$3)+0.5*SUMPRODUCT((B15:AF15="H")*$B$3:$AF$3) | AH15: =SUMPRODUCT((B15:AF15="K")*$B$3:$AF$3) | AI15: =SUMPRODUCT(((B15:AF15="S")+(B15:AF15="Z"))*$B$3:$AF$3)
A16: =IF(Jahresübersicht!A14="","",Jahresübersicht!A14) | AG16: =SUMPRODUCT((B16:AF16="U")*$B$3:$AF$3)+0.5*SUMPRODUCT((B16:AF16="H")*$B$3:$AF$3) | AH16: =SUMPRODUCT((B16:AF16="K")*$B$3:$AF$3) | AI16: =SUMPRODUCT(((B16:AF16="S")+(B16:AF16="Z"))*$B$3:$AF$3)
A17: =IF(Jahresübersicht!A15="","",Jahresübersicht!A15) | AG17: =SUMPRODUCT((B17:AF17="U")*$B$3:$AF$3)+0.5*SUMPRODUCT((B17:AF17="H")*$B$3:$AF$3) | AH17: =SUMPRODUCT((B17:AF17="K")*$B$3:$AF$3) | AI17: =SUMPRODUCT(((B17:AF17="S")+(B17:AF17="Z"))*$B$3:$AF$3)
A18: =IF(Jahresübersicht!A16="","",Jahresübersicht!A16) | AG18: =SUMPRODUCT((B18:AF18="U")*$B$3:$AF$3)+0.5*SUMPRODUCT((B18:AF18="H")*$B$3:$AF$3) | AH18: =SUMPRODUCT((B18:AF18="K")*$B$3:$AF$3) | AI18: =SUMPRODUCT(((B18:AF18="S")+(B18:AF18="Z"))*$B$3:$AF$3)
... A31: =IF(Jahresübersicht!A29="","",Jahresübersicht!A29) | AG31: =SUMPRODUCT((B31:AF31="U")*$B$3:$AF$3)+0.5*SUMPRODUCT((B31:AF31="H")*$B$3:$AF$3) | AH31: =SUMPRODUCT((B31:AF31="K")*$B$3:$AF$3) | AI31: =SUMPRODUCT(((B31:AF31="S")+(B31:AF31="Z"))*$B$3:$AF$3)

Sheet Mai
A1: Mai 2027 | N1: Urlaubsplanung digital mit flair
A2: ="Bundesland: "&Start!C5
A3: Arbeitstag (1/0) | B3: 0 | C3: 0 | D3: =IF(COUNTIF(Feiertage!$T$5:$T$23,D$4)>0,0,1) | E3: =IF(COUNTIF(Feiertage!$T$5:$T$23,E$4)>0,0,1) | F3: =IF(COUNTIF(Feiertage!$T$5:$T$23,F$4)>0,0,1) | G3: =IF(COUNTIF(Feiertage!$T$5:$T$23,G$4)>0,0,1) | H3: =IF(COUNTIF(Feiertage!$T$5:$T$23,H$4)>0,0,1) | I3: 0 | J3: 0 | K3: =IF(COUNTIF(Feiertage!$T$5:$T$23,K$4)>0,0,1) | L3: =IF(COUNTIF(Feiertage!$T$5:$T$23,L$4)>0,0,1) | M3: =IF(COUNTIF(Feiertage!$T$5:$T$23,M$4)>0,0,1) | N3: =IF(COUNTIF(Feiertage!$T$5:$T$23,N$4)>0,0,1) | O3: =IF(COUNTIF(Feiertage!$T$5:$T$23,O$4)>0,0,1) | P3: 0 | Q3: 0 | R3: =IF(COUNTIF(Feiertage!$T$5:$T$23,R$4)>0,0,1) | S3: =IF(COUNTIF(Feiertage!$T$5:$T$23,S$4)>0,0,1) | T3: =IF(COUNTIF(Feiertage!$T$5:$T$23,T$4)>0,0,1) | U3: =IF(COUNTIF(Feiertage!$T$5:$T$23,U$4)>0,0,1) | V3: =IF(COUNTIF(Feiertage!$T$5:$T$23,V$4)>0,0,1) | W3: 0 | X3: 0 | Y3: =IF(COUNTIF(Feiertage!$T$5:$T$23,Y$4)>0,0,1) | Z3: =IF(COUNTIF(Feiertage!$T$5:$T$23,Z$4)>0,0,1) | AA3: =IF(COUNTIF(Feiertage!$T$5:$T$23,AA$4)>0,0,1) | AB3: =IF(COUNTIF(Feiertage!$T$5:$T$23,AB$4)>0,0,1) | AC3: =IF(COUNTIF(Feiertage!$T$5:$T$23,AC$4)>0,0,1) | AD3: 0 | AE3: 0 | AF3: =IF(COUNTIF(Feiertage!$T$5:$T$23,AF$4)>0,0,1)
A4: Datum | B4: 46508 | C4: 46509 | D4: 46510 | E4: 46511 | F4: 46512 | G4: 46513 | H4: 46514 | I4: 46515 | J4: 46516 | K4: 46517 | L4: 46518 | M4: 46519 | N4: 46520 | O4: 46521 | P4: 46522 | Q4: 46523 | R4: 46524 | S4: 46525 | T4: 46526 | U4: 46527 | V4: 46528 | W4: 46529 | X4: 46530 | Y4: 46531 | Z4: 46532 | AA4: 46533 | AB4: 46534 | AC4: 46535 | AD4: 46536 | AE4: 46537 | AF4: 46538 | AG4: Urlaub | AH4: Krank | AI4: Sonst.
A5: Wochentag | B5: Sa | C5: So | D5: Mo | E5: Di | F5: Mi | G5: Do | H5: Fr | I5: Sa | J5: So | K5: Mo | L5: Di | M5: Mi | N5: Do | O5: Fr | P5: Sa | Q5: So | R5: Mo | S5: Di | T5: Mi | U5: Do | V5: Fr | W5: Sa | X5: So | Y5: Mo | Z5: Di | AA5: Mi | AB5: Do | AC5: Fr | AD5: Sa | AE5: So | AF5: Mo
A6: Feiertag | B6: =IFERROR(INDEX(Feiertage!$B$5:$B$23,MATCH(B$4,Feiertage!$T$5:$T$23,0)),"") | C6: =IFERROR(INDEX(Feiertage!$B$5:$B$23,MATCH(C$4,Feiertage!$T$5:$T$23,0)),"") | D6: =IFERROR(INDEX(Feiertage!$B$5:$B$23,MATCH(D$4,Feiertage!$T$5:$T$23,0)),"") | E6: =IFERROR(INDEX(Feiertage!$B$5:$B$23,MATCH(E$4,Feiertage!$T$5:$T$23,0)),"") | F6: =IFERROR(INDEX(Feiertage!$B$5:$B$23,MATCH(F$4,Feiertage!$T$5:$T$23,0)),"") | G6: =IFERROR(INDEX(Feiertage!$B$5:$B$23,MATCH(G$4,Feiertage!$T$5:$T$23,0)),"") | H6: =IFERROR(INDEX(Feiertage!$B$5:$B$23,MATCH(H$4,Feiertage!$T$5:$T$23,0)),"") | I6: =IFERROR(INDEX(Feiertage!$B$5:$B$23,MATCH(I$4,Feiertage!$T$5:$T$23,0)),"") | ... AF6: =IFERROR(INDEX(Feiertage!$B$5:$B$23,MATCH(AF$4,Feiertage!$T$5:$T$23,0)),"")
A7: =IF(Jahresübersicht!A5="","",Jahresübersicht!A5) | AG7: =SUMPRODUCT((B7:AF7="U")*$B$3:$AF$3)+0.5*SUMPRODUCT((B7:AF7="H")*$B$3:$AF$3) | AH7: =SUMPRODUCT((B7:AF7="K")*$B$3:$AF$3) | AI7: =SUMPRODUCT(((B7:AF7="S")+(B7:AF7="Z"))*$B$3:$AF$3)
A8: =IF(Jahresübersicht!A6="","",Jahresübersicht!A6) | AG8: =SUMPRODUCT((B8:AF8="U")*$B$3:$AF$3)+0.5*SUMPRODUCT((B8:AF8="H")*$B$3:$AF$3) | AH8: =SUMPRODUCT((B8:AF8="K")*$B$3:$AF$3) | AI8: =SUMPRODUCT(((B8:AF8="S")+(B8:AF8="Z"))*$B$3:$AF$3)
A9: =IF(Jahresübersicht!A7="","",Jahresübersicht!A7) | AG9: =SUMPRODUCT((B9:AF9="U")*$B$3:$AF$3)+0.5*SUMPRODUCT((B9:AF9="H")*$B$3:$AF$3) | AH9: =SUMPRODUCT((B9:AF9="K")*$B$3:$AF$3) | AI9: =SUMPRODUCT(((B9:AF9="S")+(B9:AF9="Z"))*$B$3:$AF$3)
A10: =IF(Jahresübersicht!A8="","",Jahresübersicht!A8) | AG10: =SUMPRODUCT((B10:AF10="U")*$B$3:$AF$3)+0.5*SUMPRODUCT((B10:AF10="H")*$B$3:$AF$3) | AH10: =SUMPRODUCT((B10:AF10="K")*$B$3:$AF$3) | AI10: =SUMPRODUCT(((B10:AF10="S")+(B10:AF10="Z"))*$B$3:$AF$3)
A11: =IF(Jahresübersicht!A9="","",Jahresübersicht!A9) | AG11: =SUMPRODUCT((B11:AF11="U")*$B$3:$AF$3)+0.5*SUMPRODUCT((B11:AF11="H")*$B$3:$AF$3) | AH11: =SUMPRODUCT((B11:AF11="K")*$B$3:$AF$3) | AI11: =SUMPRODUCT(((B11:AF11="S")+(B11:AF11="Z"))*$B$3:$AF$3)
A12: =IF(Jahresübersicht!A10="","",Jahresübersicht!A10) | AG12: =SUMPRODUCT((B12:AF12="U")*$B$3:$AF$3)+0.5*SUMPRODUCT((B12:AF12="H")*$B$3:$AF$3) | AH12: =SUMPRODUCT((B12:AF12="K")*$B$3:$AF$3) | AI12: =SUMPRODUCT(((B12:AF12="S")+(B12:AF12="Z"))*$B$3:$AF$3)
A13: =IF(Jahresübersicht!A11="","",Jahresübersicht!A11) | AG13: =SUMPRODUCT((B13:AF13="U")*$B$3:$AF$3)+0.5*SUMPRODUCT((B13:AF13="H")*$B$3:$AF$3) | AH13: =SUMPRODUCT((B13:AF13="K")*$B$3:$AF$3) | AI13: =SUMPRODUCT(((B13:AF13="S")+(B13:AF13="Z"))*$B$3:$AF$3)
A14: =IF(Jahresübersicht!A12="","",Jahresübersicht!A12) | AG14: =SUMPRODUCT((B14:AF14="U")*$B$3:$AF$3)+0.5*SUMPRODUCT((B14:AF14="H")*$B$3:$AF$3) | AH14: =SUMPRODUCT((B14:AF14="K")*$B$3:$AF$3) | AI14: =SUMPRODUCT(((B14:AF14="S")+(B14:AF14="Z"))*$B$3:$AF$3)
A15: =IF(Jahresübersicht!A13="","",Jahresübersicht!A13) | AG15: =SUMPRODUCT((B15:AF15="U")*$B$3:$AF$3)+0.5*SUMPRODUCT((B15:AF15="H")*$B$3:$AF$3) | AH15: =SUMPRODUCT((B15:AF15="K")*$B$3:$AF$3) | AI15: =SUMPRODUCT(((B15:AF15="S")+(B15:AF15="Z"))*$B$3:$AF$3)
A16: =IF(Jahresübersicht!A14="","",Jahresübersicht!A14) | AG16: =SUMPRODUCT((B16:AF16="U")*$B$3:$AF$3)+0.5*SUMPRODUCT((B16:AF16="H")*$B$3:$AF$3) | AH16: =SUMPRODUCT((B16:AF16="K")*$B$3:$AF$3) | AI16: =SUMPRODUCT(((B16:AF16="S")+(B16:AF16="Z"))*$B$3:$AF$3)
A17: =IF(Jahresübersicht!A15="","",Jahresübersicht!A15) | AG17: =SUMPRODUCT((B17:AF17="U")*$B$3:$AF$3)+0.5*SUMPRODUCT((B17:AF17="H")*$B$3:$AF$3) | AH17: =SUMPRODUCT((B17:AF17="K")*$B$3:$AF$3) | AI17: =SUMPRODUCT(((B17:AF17="S")+(B17:AF17="Z"))*$B$3:$AF$3)
A18: =IF(Jahresübersicht!A16="","",Jahresübersicht!A16) | AG18: =SUMPRODUCT((B18:AF18="U")*$B$3:$AF$3)+0.5*SUMPRODUCT((B18:AF18="H")*$B$3:$AF$3) | AH18: =SUMPRODUCT((B18:AF18="K")*$B$3:$AF$3) | AI18: =SUMPRODUCT(((B18:AF18="S")+(B18:AF18="Z"))*$B$3:$AF$3)
... A31: =IF(Jahresübersicht!A29="","",Jahresübersicht!A29) | AG31: =SUMPRODUCT((B31:AF31="U")*$B$3:$AF$3)+0.5*SUMPRODUCT((B31:AF31="H")*$B$3:$AF$3) | AH31: =SUMPRODUCT((B31:AF31="K")*$B$3:$AF$3) | AI31: =SUMPRODUCT(((B31:AF31="S")+(B31:AF31="Z"))*$B$3:$AF$3)

Sheet Juni
A1: Juni 2027 | N1: Urlaubsplanung digital mit flair
A2: ="Bundesland: "&Start!C5
A3: Arbeitstag (1/0) | B3: =IF(COUNTIF(Feiertage!$T$5:$T$23,B$4)>0,0,1) | C3: =IF(COUNTIF(Feiertage!$T$5:$T$23,C$4)>0,0,1) | D3: =IF(COUNTIF(Feiertage!$T$5:$T$23,D$4)>0,0,1) | E3: =IF(COUNTIF(Feiertage!$T$5:$T$23,E$4)>0,0,1) | F3: 0 | G3: 0 | H3: =IF(COUNTIF(Feiertage!$T$5:$T$23,H$4)>0,0,1) | I3: =IF(COUNTIF(Feiertage!$T$5:$T$23,I$4)>0,0,1) | J3: =IF(COUNTIF(Feiertage!$T$5:$T$23,J$4)>0,0,1) | K3: =IF(COUNTIF(Feiertage!$T$5:$T$23,K$4)>0,0,1) | L3: =IF(COUNTIF(Feiertage!$T$5:$T$23,L$4)>0,0,1) | M3: 0 | N3: 0 | O3: =IF(COUNTIF(Feiertage!$T$5:$T$23,O$4)>0,0,1) | P3: =IF(COUNTIF(Feiertage!$T$5:$T$23,P$4)>0,0,1) | Q3: =IF(COUNTIF(Feiertage!$T$5:$T$23,Q$4)>0,0,1) | R3: =IF(COUNTIF(Feiertage!$T$5:$T$23,R$4)>0,0,1) | S3: =IF(COUNTIF(Feiertage!$T$5:$T$23,S$4)>0,0,1) | T3: 0 | U3: 0 | V3: =IF(COUNTIF(Feiertage!$T$5:$T$23,V$4)>0,0,1) | W3: =IF(COUNTIF(Feiertage!$T$5:$T$23,W$4)>0,0,1) | X3: =IF(COUNTIF(Feiertage!$T$5:$T$23,X$4)>0,0,1) | Y3: =IF(COUNTIF(Feiertage!$T$5:$T$23,Y$4)>0,0,1) | Z3: =IF(COUNTIF(Feiertage!$T$5:$T$23,Z$4)>0,0,1) | AA3: 0 | AB3: 0 | AC3: =IF(COUNTIF(Feiertage!$T$5:$T$23,AC$4)>0,0,1) | AD3: =IF(COUNTIF(Feiertage!$T$5:$T$23,AD$4)>0,0,1) | AE3: =IF(COUNTIF(Feiertage!$T$5:$T$23,AE$4)>0,0,1) | AF3: 0
A4: Datum | B4: 46539 | C4: 46540 | D4: 46541 | E4: 46542 | F4: 46543 | G4: 46544 | H4: 46545 | I4: 46546 | J4: 46547 | K4: 46548 | L4: 46549 | M4: 46550 | N4: 46551 | O4: 46552 | P4: 46553 | Q4: 46554 | R4: 46555 | S4: 46556 | T4: 46557 | U4: 46558 | V4: 46559 | W4: 46560 | X4: 46561 | Y4: 46562 | Z4: 46563 | AA4: 46564 | AB4: 46565 | AC4: 46566 | AD4: 46567 | AE4: 46568 | AG4: Urlaub | AH4: Krank | AI4: Sonst.
A5: Wochentag | B5: Di | C5: Mi | D5: Do | E5: Fr | F5: Sa | G5: So | H5: Mo | I5: Di | J5: Mi | K5: Do | L5: Fr | M5: Sa | N5: So | O5: Mo | P5: Di | Q5: Mi | R5: Do | S5: Fr | T5: Sa | U5: So | V5: Mo | W5: Di | X5: Mi | Y5: Do | Z5: Fr | AA5: Sa | AB5: So | AC5: Mo | AD5: Di | AE5: Mi
A6: Feiertag | B6: =IFERROR(INDEX(Feiertage!$B$5:$B$23,MATCH(B$4,Feiertage!$T$5:$T$23,0)),"") | C6: =IFERROR(INDEX(Feiertage!$B$5:$B$23,MATCH(C$4,Feiertage!$T$5:$T$23,0)),"") | D6: =IFERROR(INDEX(Feiertage!$B$5:$B$23,MATCH(D$4,Feiertage!$T$5:$T$23,0)),"") | E6: =IFERROR(INDEX(Feiertage!$B$5:$B$23,MATCH(E$4,Feiertage!$T$5:$T$23,0)),"") | F6: =IFERROR(INDEX(Feiertage!$B$5:$B$23,MATCH(F$4,Feiertage!$T$5:$T$23,0)),"") | G6: =IFERROR(INDEX(Feiertage!$B$5:$B$23,MATCH(G$4,Feiertage!$T$5:$T$23,0)),"") | H6: =IFERROR(INDEX(Feiertage!$B$5:$B$23,MATCH(H$4,Feiertage!$T$5:$T$23,0)),"") | I6: =IFERROR(INDEX(Feiertage!$B$5:$B$23,MATCH(I$4,Feiertage!$T$5:$T$23,0)),"") | ... AE6: =IFERROR(INDEX(Feiertage!$B$5:$B$23,MATCH(AE$4,Feiertage!$T$5:$T$23,0)),"")
A7: =IF(Jahresübersicht!A5="","",Jahresübersicht!A5) | AG7: =SUMPRODUCT((B7:AF7="U")*$B$3:$AF$3)+0.5*SUMPRODUCT((B7:AF7="H")*$B$3:$AF$3) | AH7: =SUMPRODUCT((B7:AF7="K")*$B$3:$AF$3) | AI7: =SUMPRODUCT(((B7:AF7="S")+(B7:AF7="Z"))*$B$3:$AF$3)
A8: =IF(Jahresübersicht!A6="","",Jahresübersicht!A6) | AG8: =SUMPRODUCT((B8:AF8="U")*$B$3:$AF$3)+0.5*SUMPRODUCT((B8:AF8="H")*$B$3:$AF$3) | AH8: =SUMPRODUCT((B8:AF8="K")*$B$3:$AF$3) | AI8: =SUMPRODUCT(((B8:AF8="S")+(B8:AF8="Z"))*$B$3:$AF$3)
A9: =IF(Jahresübersicht!A7="","",Jahresübersicht!A7) | AG9: =SUMPRODUCT((B9:AF9="U")*$B$3:$AF$3)+0.5*SUMPRODUCT((B9:AF9="H")*$B$3:$AF$3) | AH9: =SUMPRODUCT((B9:AF9="K")*$B$3:$AF$3) | AI9: =SUMPRODUCT(((B9:AF9="S")+(B9:AF9="Z"))*$B$3:$AF$3)
A10: =IF(Jahresübersicht!A8="","",Jahresübersicht!A8) | AG10: =SUMPRODUCT((B10:AF10="U")*$B$3:$AF$3)+0.5*SUMPRODUCT((B10:AF10="H")*$B$3:$AF$3) | AH10: =SUMPRODUCT((B10:AF10="K")*$B$3:$AF$3) | AI10: =SUMPRODUCT(((B10:AF10="S")+(B10:AF10="Z"))*$B$3:$AF$3)
A11: =IF(Jahresübersicht!A9="","",Jahresübersicht!A9) | AG11: =SUMPRODUCT((B11:AF11="U")*$B$3:$AF$3)+0.5*SUMPRODUCT((B11:AF11="H")*$B$3:$AF$3) | AH11: =SUMPRODUCT((B11:AF11="K")*$B$3:$AF$3) | AI11: =SUMPRODUCT(((B11:AF11="S")+(B11:AF11="Z"))*$B$3:$AF$3)
A12: =IF(Jahresübersicht!A10="","",Jahresübersicht!A10) | AG12: =SUMPRODUCT((B12:AF12="U")*$B$3:$AF$3)+0.5*SUMPRODUCT((B12:AF12="H")*$B$3:$AF$3) | AH12: =SUMPRODUCT((B12:AF12="K")*$B$3:$AF$3) | AI12: =SUMPRODUCT(((B12:AF12="S")+(B12:AF12="Z"))*$B$3:$AF$3)
A13: =IF(Jahresübersicht!A11="","",Jahresübersicht!A11) | AG13: =SUMPRODUCT((B13:AF13="U")*$B$3:$AF$3)+0.5*SUMPRODUCT((B13:AF13="H")*$B$3:$AF$3) | AH13: =SUMPRODUCT((B13:AF13="K")*$B$3:$AF$3) | AI13: =SUMPRODUCT(((B13:AF13="S")+(B13:AF13="Z"))*$B$3:$AF$3)
A14: =IF(Jahresübersicht!A12="","",Jahresübersicht!A12) | AG14: =SUMPRODUCT((B14:AF14="U")*$B$3:$AF$3)+0.5*SUMPRODUCT((B14:AF14="H")*$B$3:$AF$3) | AH14: =SUMPRODUCT((B14:AF14="K")*$B$3:$AF$3) | AI14: =SUMPRODUCT(((B14:AF14="S")+(B14:AF14="Z"))*$B$3:$AF$3)
A15: =IF(Jahresübersicht!A13="","",Jahresübersicht!A13) | AG15: =SUMPRODUCT((B15:AF15="U")*$B$3:$AF$3)+0.5*SUMPRODUCT((B15:AF15="H")*$B$3:$AF$3) | AH15: =SUMPRODUCT((B15:AF15="K")*$B$3:$AF$3) | AI15: =SUMPRODUCT(((B15:AF15="S")+(B15:AF15="Z"))*$B$3:$AF$3)
A16: =IF(Jahresübersicht!A14="","",Jahresübersicht!A14) | AG16: =SUMPRODUCT((B16:AF16="U")*$B$3:$AF$3)+0.5*SUMPRODUCT((B16:AF16="H")*$B$3:$AF$3) | AH16: =SUMPRODUCT((B16:AF16="K")*$B$3:$AF$3) | AI16: =SUMPRODUCT(((B16:AF16="S")+(B16:AF16="Z"))*$B$3:$AF$3)
A17: =IF(Jahresübersicht!A15="","",Jahresübersicht!A15) | AG17: =SUMPRODUCT((B17:AF17="U")*$B$3:$AF$3)+0.5*SUMPRODUCT((B17:AF17="H")*$B$3:$AF$3) | AH17: =SUMPRODUCT((B17:AF17="K")*$B$3:$AF$3) | AI17: =SUMPRODUCT(((B17:AF17="S")+(B17:AF17="Z"))*$B$3:$AF$3)
A18: =IF(Jahresübersicht!A16="","",Jahresübersicht!A16) | AG18: =SUMPRODUCT((B18:AF18="U")*$B$3:$AF$3)+0.5*SUMPRODUCT((B18:AF18="H")*$B$3:$AF$3) | AH18: =SUMPRODUCT((B18:AF18="K")*$B$3:$AF$3) | AI18: =SUMPRODUCT(((B18:AF18="S")+(B18:AF18="Z"))*$B$3:$AF$3)
... A31: =IF(Jahresübersicht!A29="","",Jahresübersicht!A29) | AG31: =SUMPRODUCT((B31:AF31="U")*$B$3:$AF$3)+0.5*SUMPRODUCT((B31:AF31="H")*$B$3:$AF$3) | AH31: =SUMPRODUCT((B31:AF31="K")*$B$3:$AF$3) | AI31: =SUMPRODUCT(((B31:AF31="S")+(B31:AF31="Z"))*$B$3:$AF$3)

Sheet Juli
A1: Juli 2027 | N1: Urlaubsplanung digital mit flair
A2: ="Bundesland: "&Start!C5
A3: Arbeitstag (1/0) | B3: =IF(COUNTIF(Feiertage!$T$5:$T$23,B$4)>0,0,1) | C3: =IF(COUNTIF(Feiertage!$T$5:$T$23,C$4)>0,0,1) | D3: 0 | E3: 0 | F3: =IF(COUNTIF(Feiertage!$T$5:$T$23,F$4)>0,0,1) | G3: =IF(COUNTIF(Feiertage!$T$5:$T$23,G$4)>0,0,1) | H3: =IF(COUNTIF(Feiertage!$T$5:$T$23,H$4)>0,0,1) | I3: =IF(COUNTIF(Feiertage!$T$5:$T$23,I$4)>0,0,1) | J3: =IF(COUNTIF(Feiertage!$T$5:$T$23,J$4)>0,0,1) | K3: 0 | L3: 0 | M3: =IF(COUNTIF(Feiertage!$T$5:$T$23,M$4)>0,0,1) | N3: =IF(COUNTIF(Feiertage!$T$5:$T$23,N$4)>0,0,1) | O3: =IF(COUNTIF(Feiertage!$T$5:$T$23,O$4)>0,0,1) | P3: =IF(COUNTIF(Feiertage!$T$5:$T$23,P$4)>0,0,1) | Q3: =IF(COUNTIF(Feiertage!$T$5:$T$23,Q$4)>0,0,1) | R3: 0 | S3: 0 | T3: =IF(COUNTIF(Feiertage!$T$5:$T$23,T$4)>0,0,1) | U3: =IF(COUNTIF(Feiertage!$T$5:$T$23,U$4)>0,0,1) | V3: =IF(COUNTIF(Feiertage!$T$5:$T$23,V$4)>0,0,1) | W3: =IF(COUNTIF(Feiertage!$T$5:$T$23,W$4)>0,0,1) | X3: =IF(COUNTIF(Feiertage!$T$5:$T$23,X$4)>0,0,1) | Y3: 0 | Z3: 0 | AA3: =IF(COUNTIF(Feiertage!$T$5:$T$23,AA$4)>0,0,1) | AB3: =IF(COUNTIF(Feiertage!$T$5:$T$23,AB$4)>0,0,1) | AC3: =IF(COUNTIF(Feiertage!$T$5:$T$23,AC$4)>0,0,1) | AD3: =IF(COUNTIF(Feiertage!$T$5:$T$23,AD$4)>0,0,1) | AE3: =IF(COUNTIF(Feiertage!$T$5:$T$23,AE$4)>0,0,1) | AF3: 0
A4: Datum | B4: 46569 | C4: 46570 | D4: 46571 | E4: 46572 | F4: 46573 | G4: 46574 | H4: 46575 | I4: 46576 | J4: 46577 | K4: 46578 | L4: 46579 | M4: 46580 | N4: 46581 | O4: 46582 | P4: 46583 | Q4: 46584 | R4: 46585 | S4: 46586 | T4: 46587 | U4: 46588 | V4: 46589 | W4: 46590 | X4: 46591 | Y4: 46592 | Z4: 46593 | AA4: 46594 | AB4: 46595 | AC4: 46596 | AD4: 46597 | AE4: 46598 | AF4: 46599 | AG4: Urlaub | AH4: Krank | AI4: Sonst.
A5: Wochentag | B5: Do | C5: Fr | D5: Sa | E5: So | F5: Mo | G5: Di | H5: Mi | I5: Do | J5: Fr | K5: Sa | L5: So | M5: Mo | N5: Di | O5: Mi | P5: Do | Q5: Fr | R5: Sa | S5: So | T5: Mo | U5: Di | V5: Mi | W5: Do | X5: Fr | Y5: Sa | Z5: So | AA5: Mo | AB5: Di | AC5: Mi | AD5: Do | AE5: Fr | AF5: Sa
A6: Feiertag | B6: =IFERROR(INDEX(Feiertage!$B$5:$B$23,MATCH(B$4,Feiertage!$T$5:$T$23,0)),"") | C6: =IFERROR(INDEX(Feiertage!$B$5:$B$23,MATCH(C$4,Feiertage!$T$5:$T$23,0)),"") | D6: =IFERROR(INDEX(Feiertage!$B$5:$B$23,MATCH(D$4,Feiertage!$T$5:$T$23,0)),"") | E6: =IFERROR(INDEX(Feiertage!$B$5:$B$23,MATCH(E$4,Feiertage!$T$5:$T$23,0)),"") | F6: =IFERROR(INDEX(Feiertage!$B$5:$B$23,MATCH(F$4,Feiertage!$T$5:$T$23,0)),"") | G6: =IFERROR(INDEX(Feiertage!$B$5:$B$23,MATCH(G$4,Feiertage!$T$5:$T$23,0)),"") | H6: =IFERROR(INDEX(Feiertage!$B$5:$B$23,MATCH(H$4,Feiertage!$T$5:$T$23,0)),"") | I6: =IFERROR(INDEX(Feiertage!$B$5:$B$23,MATCH(I$4,Feiertage!$T$5:$T$23,0)),"") | ... AF6: =IFERROR(INDEX(Feiertage!$B$5:$B$23,MATCH(AF$4,Feiertage!$T$5:$T$23,0)),"")
A7: =IF(Jahresübersicht!A5="","",Jahresübersicht!A5) | AG7: =SUMPRODUCT((B7:AF7="U")*$B$3:$AF$3)+0.5*SUMPRODUCT((B7:AF7="H")*$B$3:$AF$3) | AH7: =SUMPRODUCT((B7:AF7="K")*$B$3:$AF$3) | AI7: =SUMPRODUCT(((B7:AF7="S")+(B7:AF7="Z"))*$B$3:$AF$3)
A8: =IF(Jahresübersicht!A6="","",Jahresübersicht!A6) | AG8: =SUMPRODUCT((B8:AF8="U")*$B$3:$AF$3)+0.5*SUMPRODUCT((B8:AF8="H")*$B$3:$AF$3) | AH8: =SUMPRODUCT((B8:AF8="K")*$B$3:$AF$3) | AI8: =SUMPRODUCT(((B8:AF8="S")+(B8:AF8="Z"))*$B$3:$AF$3)
A9: =IF(Jahresübersicht!A7="","",Jahresübersicht!A7) | AG9: =SUMPRODUCT((B9:AF9="U")*$B$3:$AF$3)+0.5*SUMPRODUCT((B9:AF9="H")*$B$3:$AF$3) | AH9: =SUMPRODUCT((B9:AF9="K")*$B$3:$AF$3) | AI9: =SUMPRODUCT(((B9:AF9="S")+(B9:AF9="Z"))*$B$3:$AF$3)
A10: =IF(Jahresübersicht!A8="","",Jahresübersicht!A8) | AG10: =SUMPRODUCT((B10:AF10="U")*$B$3:$AF$3)+0.5*SUMPRODUCT((B10:AF10="H")*$B$3:$AF$3) | AH10: =SUMPRODUCT((B10:AF10="K")*$B$3:$AF$3) | AI10: =SUMPRODUCT(((B10:AF10="S")+(B10:AF10="Z"))*$B$3:$AF$3)
A11: =IF(Jahresübersicht!A9="","",Jahresübersicht!A9) | AG11: =SUMPRODUCT((B11:AF11="U")*$B$3:$AF$3)+0.5*SUMPRODUCT((B11:AF11="H")*$B$3:$AF$3) | AH11: =SUMPRODUCT((B11:AF11="K")*$B$3:$AF$3) | AI11: =SUMPRODUCT(((B11:AF11="S")+(B11:AF11="Z"))*$B$3:$AF$3)
A12: =IF(Jahresübersicht!A10="","",Jahresübersicht!A10) | AG12: =SUMPRODUCT((B12:AF12="U")*$B$3:$AF$3)+0.5*SUMPRODUCT((B12:AF12="H")*$B$3:$AF$3) | AH12: =SUMPRODUCT((B12:AF12="K")*$B$3:$AF$3) | AI12: =SUMPRODUCT(((B12:AF12="S")+(B12:AF12="Z"))*$B$3:$AF$3)
A13: =IF(Jahresübersicht!A11="","",Jahresübersicht!A11) | AG13: =SUMPRODUCT((B13:AF13="U")*$B$3:$AF$3)+0.5*SUMPRODUCT((B13:AF13="H")*$B$3:$AF$3) | AH13: =SUMPRODUCT((B13:AF13="K")*$B$3:$AF$3) | AI13: =SUMPRODUCT(((B13:AF13="S")+(B13:AF13="Z"))*$B$3:$AF$3)
A14: =IF(Jahresübersicht!A12="","",Jahresübersicht!A12) | AG14: =SUMPRODUCT((B14:AF14="U")*$B$3:$AF$3)+0.5*SUMPRODUCT((B14:AF14="H")*$B$3:$AF$3) | AH14: =SUMPRODUCT((B14:AF14="K")*$B$3:$AF$3) | AI14: =SUMPRODUCT(((B14:AF14="S")+(B14:AF14="Z"))*$B$3:$AF$3)
A15: =IF(Jahresübersicht!A13="","",Jahresübersicht!A13) | AG15: =SUMPRODUCT((B15:AF15="U")*$B$3:$AF$3)+0.5*SUMPRODUCT((B15:AF15="H")*$B$3:$AF$3) | AH15: =SUMPRODUCT((B15:AF15="K")*$B$3:$AF$3) | AI15: =SUMPRODUCT(((B15:AF15="S")+(B15:AF15="Z"))*$B$3:$AF$3)
A16: =IF(Jahresübersicht!A14="","",Jahresübersicht!A14) | AG16: =SUMPRODUCT((B16:AF16="U")*$B$3:$AF$3)+0.5*SUMPRODUCT((B16:AF16="H")*$B$3:$AF$3) | AH16: =SUMPRODUCT((B16:AF16="K")*$B$3:$AF$3) | AI16: =SUMPRODUCT(((B16:AF16="S")+(B16:AF16="Z"))*$B$3:$AF$3)
A17: =IF(Jahresübersicht!A15="","",Jahresübersicht!A15) | AG17: =SUMPRODUCT((B17:AF17="U")*$B$3:$AF$3)+0.5*SUMPRODUCT((B17:AF17="H")*$B$3:$AF$3) | AH17: =SUMPRODUCT((B17:AF17="K")*$B$3:$AF$3) | AI17: =SUMPRODUCT(((B17:AF17="S")+(B17:AF17="Z"))*$B$3:$AF$3)
A18: =IF(Jahresübersicht!A16="","",Jahresübersicht!A16) | AG18: =SUMPRODUCT((B18:AF18="U")*$B$3:$AF$3)+0.5*SUMPRODUCT((B18:AF18="H")*$B$3:$AF$3) | AH18: =SUMPRODUCT((B18:AF18="K")*$B$3:$AF$3) | AI18: =SUMPRODUCT(((B18:AF18="S")+(B18:AF18="Z"))*$B$3:$AF$3)
... A31: =IF(Jahresübersicht!A29="","",Jahresübersicht!A29) | AG31: =SUMPRODUCT((B31:AF31="U")*$B$3:$AF$3)+0.5*SUMPRODUCT((B31:AF31="H")*$B$3:$AF$3) | AH31: =SUMPRODUCT((B31:AF31="K")*$B$3:$AF$3) | AI31: =SUMPRODUCT(((B31:AF31="S")+(B31:AF31="Z"))*$B$3:$AF$3)

Sheet August
A1: August 2027 | N1: Urlaubsplanung digital mit flair
A2: ="Bundesland: "&Start!C5
A3: Arbeitstag (1/0) | B3: 0 | C3: =IF(COUNTIF(Feiertage!$T$5:$T$23,C$4)>0,0,1) | D3: =IF(COUNTIF(Feiertage!$T$5:$T$23,D$4)>0,0,1) | E3: =IF(COUNTIF(Feiertage!$T$5:$T$23,E$4)>0,0,1) | F3: =IF(COUNTIF(Feiertage!$T$5:$T$23,F$4)>0,0,1) | G3: =IF(COUNTIF(Feiertage!$T$5:$T$23,G$4)>0,0,1) | H3: 0 | I3: 0 | J3: =IF(COUNTIF(Feiertage!$T$5:$T$23,J$4)>0,0,1) | K3: =IF(COUNTIF(Feiertage!$T$5:$T$23,K$4)>0,0,1) | L3: =IF(COUNTIF(Feiertage!$T$5:$T$23,L$4)>0,0,1) | M3: =IF(COUNTIF(Feiertage!$T$5:$T$23,M$4)>0,0,1) | N3: =IF(COUNTIF(Feiertage!$T$5:$T$23,N$4)>0,0,1) | O3: 0 | P3: 0 | Q3: =IF(COUNTIF(Feiertage!$T$5:$T$23,Q$4)>0,0,1) | R3: =IF(COUNTIF(Feiertage!$T$5:$T$23,R$4)>0,0,1) | S3: =IF(COUNTIF(Feiertage!$T$5:$T$23,S$4)>0,0,1) | T3: =IF(COUNTIF(Feiertage!$T$5:$T$23,T$4)>0,0,1) | U3: =IF(COUNTIF(Feiertage!$T$5:$T$23,U$4)>0,0,1) | V3: 0 | W3: 0 | X3: =IF(COUNTIF(Feiertage!$T$5:$T$23,X$4)>0,0,1) | Y3: =IF(COUNTIF(Feiertage!$T$5:$T$23,Y$4)>0,0,1) | Z3: =IF(COUNTIF(Feiertage!$T$5:$T$23,Z$4)>0,0,1) | AA3: =IF(COUNTIF(Feiertage!$T$5:$T$23,AA$4)>0,0,1) | AB3: =IF(COUNTIF(Feiertage!$T$5:$T$23,AB$4)>0,0,1) | AC3: 0 | AD3: 0 | AE3: =IF(COUNTIF(Feiertage!$T$5:$T$23,AE$4)>0,0,1) | AF3: =IF(COUNTIF(Feiertage!$T$5:$T$23,AF$4)>0,0,1)
A4: Datum | B4: 46600 | C4: 46601 | D4: 46602 | E4: 46603 | F4: 46604 | G4: 46605 | H4: 46606 | I4: 46607 | J4: 46608 | K4: 46609 | L4: 46610 | M4: 46611 | N4: 46612 | O4: 46613 | P4: 46614 | Q4: 46615 | R4: 46616 | S4: 46617 | T4: 46618 | U4: 46619 | V4: 46620 | W4: 46621 | X4: 46622 | Y4: 46623 | Z4: 46624 | AA4: 46625 | AB4: 46626 | AC4: 46627 | AD4: 46628 | AE4: 46629 | AF4: 46630 | AG4: Urlaub | AH4: Krank | AI4: Sonst.
A5: Wochentag | B5: So | C5: Mo | D5: Di | E5: Mi | F5: Do | G5: Fr | H5: Sa | I5: So | J5: Mo | K5: Di | L5: Mi | M5: Do | N5: Fr | O5: Sa | P5: So | Q5: Mo | R5: Di | S5: Mi | T5: Do | U5: Fr | V5: Sa | W5: So | X5: Mo | Y5: Di | Z5: Mi | AA5: Do | AB5: Fr | AC5: Sa | AD5: So | AE5: Mo | AF5: Di
A6: Feiertag | B6: =IFERROR(INDEX(Feiertage!$B$5:$B$23,MATCH(B$4,Feiertage!$T$5:$T$23,0)),"") | C6: =IFERROR(INDEX(Feiertage!$B$5:$B$23,MATCH(C$4,Feiertage!$T$5:$T$23,0)),"") | D6: =IFERROR(INDEX(Feiertage!$B$5:$B$23,MATCH(D$4,Feiertage!$T$5:$T$23,0)),"") | E6: =IFERROR(INDEX(Feiertage!$B$5:$B$23,MATCH(E$4,Feiertage!$T$5:$T$23,0)),"") | F6: =IFERROR(INDEX(Feiertage!$B$5:$B$23,MATCH(F$4,Feiertage!$T$5:$T$23,0)),"") | G6: =IFERROR(INDEX(Feiertage!$B$5:$B$23,MATCH(G$4,Feiertage!$T$5:$T$23,0)),"") | H6: =IFERROR(INDEX(Feiertage!$B$5:$B$23,MATCH(H$4,Feiertage!$T$5:$T$23,0)),"") | I6: =IFERROR(INDEX(Feiertage!$B$5:$B$23,MATCH(I$4,Feiertage!$T$5:$T$23,0)),"") | ... AF6: =IFERROR(INDEX(Feiertage!$B$5:$B$23,MATCH(AF$4,Feiertage!$T$5:$T$23,0)),"")
A7: =IF(Jahresübersicht!A5="","",Jahresübersicht!A5) | AG7: =SUMPRODUCT((B7:AF7="U")*$B$3:$AF$3)+0.5*SUMPRODUCT((B7:AF7="H")*$B$3:$AF$3) | AH7: =SUMPRODUCT((B7:AF7="K")*$B$3:$AF$3) | AI7: =SUMPRODUCT(((B7:AF7="S")+(B7:AF7="Z"))*$B$3:$AF$3)
A8: =IF(Jahresübersicht!A6="","",Jahresübersicht!A6) | AG8: =SUMPRODUCT((B8:AF8="U")*$B$3:$AF$3)+0.5*SUMPRODUCT((B8:AF8="H")*$B$3:$AF$3) | AH8: =SUMPRODUCT((B8:AF8="K")*$B$3:$AF$3) | AI8: =SUMPRODUCT(((B8:AF8="S")+(B8:AF8="Z"))*$B$3:$AF$3)
A9: =IF(Jahresübersicht!A7="","",Jahresübersicht!A7) | AG9: =SUMPRODUCT((B9:AF9="U")*$B$3:$AF$3)+0.5*SUMPRODUCT((B9:AF9="H")*$B$3:$AF$3) | AH9: =SUMPRODUCT((B9:AF9="K")*$B$3:$AF$3) | AI9: =SUMPRODUCT(((B9:AF9="S")+(B9:AF9="Z"))*$B$3:$AF$3)
A10: =IF(Jahresübersicht!A8="","",Jahresübersicht!A8) | AG10: =SUMPRODUCT((B10:AF10="U")*$B$3:$AF$3)+0.5*SUMPRODUCT((B10:AF10="H")*$B$3:$AF$3) | AH10: =SUMPRODUCT((B10:AF10="K")*$B$3:$AF$3) | AI10: =SUMPRODUCT(((B10:AF10="S")+(B10:AF10="Z"))*$B$3:$AF$3)
A11: =IF(Jahresübersicht!A9="","",Jahresübersicht!A9) | AG11: =SUMPRODUCT((B11:AF11="U")*$B$3:$AF$3)+0.5*SUMPRODUCT((B11:AF11="H")*$B$3:$AF$3) | AH11: =SUMPRODUCT((B11:AF11="K")*$B$3:$AF$3) | AI11: =SUMPRODUCT(((B11:AF11="S")+(B11:AF11="Z"))*$B$3:$AF$3)
A12: =IF(Jahresübersicht!A10="","",Jahresübersicht!A10) | AG12: =SUMPRODUCT((B12:AF12="U")*$B$3:$AF$3)+0.5*SUMPRODUCT((B12:AF12="H")*$B$3:$AF$3) | AH12: =SUMPRODUCT((B12:AF12="K")*$B$3:$AF$3) | AI12: =SUMPRODUCT(((B12:AF12="S")+(B12:AF12="Z"))*$B$3:$AF$3)
A13: =IF(Jahresübersicht!A11="","",Jahresübersicht!A11) | AG13: =SUMPRODUCT((B13:AF13="U")*$B$3:$AF$3)+0.5*SUMPRODUCT((B13:AF13="H")*$B$3:$AF$3) | AH13: =SUMPRODUCT((B13:AF13="K")*$B$3:$AF$3) | AI13: =SUMPRODUCT(((B13:AF13="S")+(B13:AF13="Z"))*$B$3:$AF$3)
A14: =IF(Jahresübersicht!A12="","",Jahresübersicht!A12) | AG14: =SUMPRODUCT((B14:AF14="U")*$B$3:$AF$3)+0.5*SUMPRODUCT((B14:AF14="H")*$B$3:$AF$3) | AH14: =SUMPRODUCT((B14:AF14="K")*$B$3:$AF$3) | AI14: =SUMPRODUCT(((B14:AF14="S")+(B14:AF14="Z"))*$B$3:$AF$3)
A15: =IF(Jahresübersicht!A13="","",Jahresübersicht!A13) | AG15: =SUMPRODUCT((B15:AF15="U")*$B$3:$AF$3)+0.5*SUMPRODUCT((B15:AF15="H")*$B$3:$AF$3) | AH15: =SUMPRODUCT((B15:AF15="K")*$B$3:$AF$3) | AI15: =SUMPRODUCT(((B15:AF15="S")+(B15:AF15="Z"))*$B$3:$AF$3)
A16: =IF(Jahresübersicht!A14="","",Jahresübersicht!A14) | AG16: =SUMPRODUCT((B16:AF16="U")*$B$3:$AF$3)+0.5*SUMPRODUCT((B16:AF16="H")*$B$3:$AF$3) | AH16: =SUMPRODUCT((B16:AF16="K")*$B$3:$AF$3) | AI16: =SUMPRODUCT(((B16:AF16="S")+(B16:AF16="Z"))*$B$3:$AF$3)
A17: =IF(Jahresübersicht!A15="","",Jahresübersicht!A15) | AG17: =SUMPRODUCT((B17:AF17="U")*$B$3:$AF$3)+0.5*SUMPRODUCT((B17:AF17="H")*$B$3:$AF$3) | AH17: =SUMPRODUCT((B17:AF17="K")*$B$3:$AF$3) | AI17: =SUMPRODUCT(((B17:AF17="S")+(B17:AF17="Z"))*$B$3:$AF$3)
A18: =IF(Jahresübersicht!A16="","",Jahresübersicht!A16) | AG18: =SUMPRODUCT((B18:AF18="U")*$B$3:$AF$3)+0.5*SUMPRODUCT((B18:AF18="H")*$B$3:$AF$3) | AH18: =SUMPRODUCT((B18:AF18="K")*$B$3:$AF$3) | AI18: =SUMPRODUCT(((B18:AF18="S")+(B18:AF18="Z"))*$B$3:$AF$3)
... A31: =IF(Jahresübersicht!A29="","",Jahresübersicht!A29) | AG31: =SUMPRODUCT((B31:AF31="U")*$B$3:$AF$3)+0.5*SUMPRODUCT((B31:AF31="H")*$B$3:$AF$3) | AH31: =SUMPRODUCT((B31:AF31="K")*$B$3:$AF$3) | AI31: =SUMPRODUCT(((B31:AF31="S")+(B31:AF31="Z"))*$B$3:$AF$3)

Sheet September
A1: September 2027 | N1: Urlaubsplanung digital mit flair
A2: ="Bundesland: "&Start!C5
A3: Arbeitstag (1/0) | B3: =IF(COUNTIF(Feiertage!$T$5:$T$23,B$4)>0,0,1) | C3: =IF(COUNTIF(Feiertage!$T$5:$T$23,C$4)>0,0,1) | D3: =IF(COUNTIF(Feiertage!$T$5:$T$23,D$4)>0,0,1) | E3: 0 | F3: 0 | G3: =IF(COUNTIF(Feiertage!$T$5:$T$23,G$4)>0,0,1) | H3: =IF(COUNTIF(Feiertage!$T$5:$T$23,H$4)>0,0,1) | I3: =IF(COUNTIF(Feiertage!$T$5:$T$23,I$4)>0,0,1) | J3: =IF(COUNTIF(Feiertage!$T$5:$T$23,J$4)>0,0,1) | K3: =IF(COUNTIF(Feiertage!$T$5:$T$23,K$4)>0,0,1) | L3: 0 | M3: 0 | N3: =IF(COUNTIF(Feiertage!$T$5:$T$23,N$4)>0,0,1) | O3: =IF(COUNTIF(Feiertage!$T$5:$T$23,O$4)>0,0,1) | P3: =IF(COUNTIF(Feiertage!$T$5:$T$23,P$4)>0,0,1) | Q3: =IF(COUNTIF(Feiertage!$T$5:$T$23,Q$4)>0,0,1) | R3: =IF(COUNTIF(Feiertage!$T$5:$T$23,R$4)>0,0,1) | S3: 0 | T3: 0 | U3: =IF(COUNTIF(Feiertage!$T$5:$T$23,U$4)>0,0,1) | V3: =IF(COUNTIF(Feiertage!$T$5:$T$23,V$4)>0,0,1) | W3: =IF(COUNTIF(Feiertage!$T$5:$T$23,W$4)>0,0,1) | X3: =IF(COUNTIF(Feiertage!$T$5:$T$23,X$4)>0,0,1) | Y3: =IF(COUNTIF(Feiertage!$T$5:$T$23,Y$4)>0,0,1) | Z3: 0 | AA3: 0 | AB3: =IF(COUNTIF(Feiertage!$T$5:$T$23,AB$4)>0,0,1) | AC3: =IF(COUNTIF(Feiertage!$T$5:$T$23,AC$4)>0,0,1) | AD3: =IF(COUNTIF(Feiertage!$T$5:$T$23,AD$4)>0,0,1) | AE3: =IF(COUNTIF(Feiertage!$T$5:$T$23,AE$4)>0,0,1) | AF3: 0
A4: Datum | B4: 46631 | C4: 46632 | D4: 46633 | E4: 46634 | F4: 46635 | G4: 46636 | H4: 46637 | I4: 46638 | J4: 46639 | K4: 46640 | L4: 46641 | M4: 46642 | N4: 46643 | O4: 46644 | P4: 46645 | Q4: 46646 | R4: 46647 | S4: 46648 | T4: 46649 | U4: 46650 | V4: 46651 | W4: 46652 | X4: 46653 | Y4: 46654 | Z4: 46655 | AA4: 46656 | AB4: 46657 | AC4: 46658 | AD4: 46659 | AE4: 46660 | AG4: Urlaub | AH4: Krank | AI4: Sonst.
A5: Wochentag | B5: Mi | C5: Do | D5: Fr | E5: Sa | F5: So | G5: Mo | H5: Di | I5: Mi | J5: Do | K5: Fr | L5: Sa | M5: So | N5: Mo | O5: Di | P5: Mi | Q5: Do | R5: Fr | S5: Sa | T5: So | U5: Mo | V5: Di | W5: Mi | X5: Do | Y5: Fr | Z5: Sa | AA5: So | AB5: Mo | AC5: Di | AD5: Mi | AE5: Do
A6: Feiertag | B6: =IFERROR(INDEX(Feiertage!$B$5:$B$23,MATCH(B$4,Feiertage!$T$5:$T$23,0)),"") | C6: =IFERROR(INDEX(Feiertage!$B$5:$B$23,MATCH(C$4,Feiertage!$T$5:$T$23,0)),"") | D6: =IFERROR(INDEX(Feiertage!$B$5:$B$23,MATCH(D$4,Feiertage!$T$5:$T$23,0)),"") | E6: =IFERROR(INDEX(Feiertage!$B$5:$B$23,MATCH(E$4,Feiertage!$T$5:$T$23,0)),"") | F6: =IFERROR(INDEX(Feiertage!$B$5:$B$23,MATCH(F$4,Feiertage!$T$5:$T$23,0)),"") | G6: =IFERROR(INDEX(Feiertage!$B$5:$B$23,MATCH(G$4,Feiertage!$T$5:$T$23,0)),"") | H6: =IFERROR(INDEX(Feiertage!$B$5:$B$23,MATCH(H$4,Feiertage!$T$5:$T$23,0)),"") | I6: =IFERROR(INDEX(Feiertage!$B$5:$B$23,MATCH(I$4,Feiertage!$T$5:$T$23,0)),"") | ... AE6: =IFERROR(INDEX(Feiertage!$B$5:$B$23,MATCH(AE$4,Feiertage!$T$5:$T$23,0)),"")
A7: =IF(Jahresübersicht!A5="","",Jahresübersicht!A5) | AG7: =SUMPRODUCT((B7:AF7="U")*$B$3:$AF$3)+0.5*SUMPRODUCT((B7:AF7="H")*$B$3:$AF$3) | AH7: =SUMPRODUCT((B7:AF7="K")*$B$3:$AF$3) | AI7: =SUMPRODUCT(((B7:AF7="S")+(B7:AF7="Z"))*$B$3:$AF$3)
A8: =IF(Jahresübersicht!A6="","",Jahresübersicht!A6) | AG8: =SUMPRODUCT((B8:AF8="U")*$B$3:$AF$3)+0.5*SUMPRODUCT((B8:AF8="H")*$B$3:$AF$3) | AH8: =SUMPRODUCT((B8:AF8="K")*$B$3:$AF$3) | AI8: =SUMPRODUCT(((B8:AF8="S")+(B8:AF8="Z"))*$B$3:$AF$3)
A9: =IF(Jahresübersicht!A7="","",Jahresübersicht!A7) | AG9: =SUMPRODUCT((B9:AF9="U")*$B$3:$AF$3)+0.5*SUMPRODUCT((B9:AF9="H")*$B$3:$AF$3) | AH9: =SUMPRODUCT((B9:AF9="K")*$B$3:$AF$3) | AI9: =SUMPRODUCT(((B9:AF9="S")+(B9:AF9="Z"))*$B$3:$AF$3)
A10: =IF(Jahresübersicht!A8="","",Jahresübersicht!A8) | AG10: =SUMPRODUCT((B10:AF10="U")*$B$3:$AF$3)+0.5*SUMPRODUCT((B10:AF10="H")*$B$3:$AF$3) | AH10: =SUMPRODUCT((B10:AF10="K")*$B$3:$AF$3) | AI10: =SUMPRODUCT(((B10:AF10="S")+(B10:AF10="Z"))*$B$3:$AF$3)
A11: =IF(Jahresübersicht!A9="","",Jahresübersicht!A9) | AG11: =SUMPRODUCT((B11:AF11="U")*$B$3:$AF$3)+0.5*SUMPRODUCT((B11:AF11="H")*$B$3:$AF$3) | AH11: =SUMPRODUCT((B11:AF11="K")*$B$3:$AF$3) | AI11: =SUMPRODUCT(((B11:AF11="S")+(B11:AF11="Z"))*$B$3:$AF$3)
A12: =IF(Jahresübersicht!A10="","",Jahresübersicht!A10) | AG12: =SUMPRODUCT((B12:AF12="U")*$B$3:$AF$3)+0.5*SUMPRODUCT((B12:AF12="H")*$B$3:$AF$3) | AH12: =SUMPRODUCT((B12:AF12="K")*$B$3:$AF$3) | AI12: =SUMPRODUCT(((B12:AF12="S")+(B12:AF12="Z"))*$B$3:$AF$3)
A13: =IF(Jahresübersicht!A11="","",Jahresübersicht!A11) | AG13: =SUMPRODUCT((B13:AF13="U")*$B$3:$AF$3)+0.5*SUMPRODUCT((B13:AF13="H")*$B$3:$AF$3) | AH13: =SUMPRODUCT((B13:AF13="K")*$B$3:$AF$3) | AI13: =SUMPRODUCT(((B13:AF13="S")+(B13:AF13="Z"))*$B$3:$AF$3)
A14: =IF(Jahresübersicht!A12="","",Jahresübersicht!A12) | AG14: =SUMPRODUCT((B14:AF14="U")*$B$3:$AF$3)+0.5*SUMPRODUCT((B14:AF14="H")*$B$3:$AF$3) | AH14: =SUMPRODUCT((B14:AF14="K")*$B$3:$AF$3) | AI14: =SUMPRODUCT(((B14:AF14="S")+(B14:AF14="Z"))*$B$3:$AF$3)
A15: =IF(Jahresübersicht!A13="","",Jahresübersicht!A13) | AG15: =SUMPRODUCT((B15:AF15="U")*$B$3:$AF$3)+0.5*SUMPRODUCT((B15:AF15="H")*$B$3:$AF$3) | AH15: =SUMPRODUCT((B15:AF15="K")*$B$3:$AF$3) | AI15: =SUMPRODUCT(((B15:AF15="S")+(B15:AF15="Z"))*$B$3:$AF$3)
A16: =IF(Jahresübersicht!A14="","",Jahresübersicht!A14) | AG16: =SUMPRODUCT((B16:AF16="U")*$B$3:$AF$3)+0.5*SUMPRODUCT((B16:AF16="H")*$B$3:$AF$3) | AH16: =SUMPRODUCT((B16:AF16="K")*$B$3:$AF$3) | AI16: =SUMPRODUCT(((B16:AF16="S")+(B16:AF16="Z"))*$B$3:$AF$3)
A17: =IF(Jahresübersicht!A15="","",Jahresübersicht!A15) | AG17: =SUMPRODUCT((B17:AF17="U")*$B$3:$AF$3)+0.5*SUMPRODUCT((B17:AF17="H")*$B$3:$AF$3) | AH17: =SUMPRODUCT((B17:AF17="K")*$B$3:$AF$3) | AI17: =SUMPRODUCT(((B17:AF17="S")+(B17:AF17="Z"))*$B$3:$AF$3)
A18: =IF(Jahresübersicht!A16="","",Jahresübersicht!A16) | AG18: =SUMPRODUCT((B18:AF18="U")*$B$3:$AF$3)+0.5*SUMPRODUCT((B18:AF18="H")*$B$3:$AF$3) | AH18: =SUMPRODUCT((B18:AF18="K")*$B$3:$AF$3) | AI18: =SUMPRODUCT(((B18:AF18="S")+(B18:AF18="Z"))*$B$3:$AF$3)
... A31: =IF(Jahresübersicht!A29="","",Jahresübersicht!A29) | AG31: =SUMPRODUCT((B31:AF31="U")*$B$3:$AF$3)+0.5*SUMPRODUCT((B31:AF31="H")*$B$3:$AF$3) | AH31: =SUMPRODUCT((B31:AF31="K")*$B$3:$AF$3) | AI31: =SUMPRODUCT(((B31:AF31="S")+(B31:AF31="Z"))*$B$3:$AF$3)

Sheet Oktober
A1: Oktober 2027 | N1: Urlaubsplanung digital mit flair
A2: ="Bundesland: "&Start!C5
A3: Arbeitstag (1/0) | B3: =IF(COUNTIF(Feiertage!$T$5:$T$23,B$4)>0,0,1) | C3: 0 | D3: 0 | E3: =IF(COUNTIF(Feiertage!$T$5:$T$23,E$4)>0,0,1) | F3: =IF(COUNTIF(Feiertage!$T$5:$T$23,F$4)>0,0,1) | G3: =IF(COUNTIF(Feiertage!$T$5:$T$23,G$4)>0,0,1) | H3: =IF(COUNTIF(Feiertage!$T$5:$T$23,H$4)>0,0,1) | I3: =IF(COUNTIF(Feiertage!$T$5:$T$23,I$4)>0,0,1) | J3: 0 | K3: 0 | L3: =IF(COUNTIF(Feiertage!$T$5:$T$23,L$4)>0,0,1) | M3: =IF(COUNTIF(Feiertage!$T$5:$T$23,M$4)>0,0,1) | N3: =IF(COUNTIF(Feiertage!$T$5:$T$23,N$4)>0,0,1) | O3: =IF(COUNTIF(Feiertage!$T$5:$T$23,O$4)>0,0,1) | P3: =IF(COUNTIF(Feiertage!$T$5:$T$23,P$4)>0,0,1) | Q3: 0 | R3: 0 | S3: =IF(COUNTIF(Feiertage!$T$5:$T$23,S$4)>0,0,1) | T3: =IF(COUNTIF(Feiertage!$T$5:$T$23,T$4)>0,0,1) | U3: =IF(COUNTIF(Feiertage!$T$5:$T$23,U$4)>0,0,1) | V3: =IF(COUNTIF(Feiertage!$T$5:$T$23,V$4)>0,0,1) | W3: =IF(COUNTIF(Feiertage!$T$5:$T$23,W$4)>0,0,1) | X3: 0 | Y3: 0 | Z3: =IF(COUNTIF(Feiertage!$T$5:$T$23,Z$4)>0,0,1) | AA3: =IF(COUNTIF(Feiertage!$T$5:$T$23,AA$4)>0,0,1) | AB3: =IF(COUNTIF(Feiertage!$T$5:$T$23,AB$4)>0,0,1) | AC3: =IF(COUNTIF(Feiertage!$T$5:$T$23,AC$4)>0,0,1) | AD3: =IF(COUNTIF(Feiertage!$T$5:$T$23,AD$4)>0,0,1) | AE3: 0 | AF3: 0
A4: Datum | B4: 46661 | C4: 46662 | D4: 46663 | E4: 46664 | F4: 46665 | G4: 46666 | H4: 46667 | I4: 46668 | J4: 46669 | K4: 46670 | L4: 46671 | M4: 46672 | N4: 46673 | O4: 46674 | P4: 46675 | Q4: 46676 | R4: 46677 | S4: 46678 | T4: 46679 | U4: 46680 | V4: 46681 | W4: 46682 | X4: 46683 | Y4: 46684 | Z4: 46685 | AA4: 46686 | AB4: 46687 | AC4: 46688 | AD4: 46689 | AE4: 46690 | AF4: 46691 | AG4: Urlaub | AH4: Krank | AI4: Sonst.
A5: Wochentag | B5: Fr | C5: Sa | D5: So | E5: Mo | F5: Di | G5: Mi | H5: Do | I5: Fr | J5: Sa | K5: So | L5: Mo | M5: Di | N5: Mi | O5: Do | P5: Fr | Q5: Sa | R5: So | S5: Mo | T5: Di | U5: Mi | V5: Do | W5: Fr | X5: Sa | Y5: So | Z5: Mo | AA5: Di | AB5: Mi | AC5: Do | AD5: Fr | AE5: Sa | AF5: So
A6: Feiertag | B6: =IFERROR(INDEX(Feiertage!$B$5:$B$23,MATCH(B$4,Feiertage!$T$5:$T$23,0)),"") | C6: =IFERROR(INDEX(Feiertage!$B$5:$B$23,MATCH(C$4,Feiertage!$T$5:$T$23,0)),"") | D6: =IFERROR(INDEX(Feiertage!$B$5:$B$23,MATCH(D$4,Feiertage!$T$5:$T$23,0)),"") | E6: =IFERROR(INDEX(Feiertage!$B$5:$B$23,MATCH(E$4,Feiertage!$T$5:$T$23,0)),"") | F6: =IFERROR(INDEX(Feiertage!$B$5:$B$23,MATCH(F$4,Feiertage!$T$5:$T$23,0)),"") | G6: =IFERROR(INDEX(Feiertage!$B$5:$B$23,MATCH(G$4,Feiertage!$T$5:$T$23,0)),"") | H6: =IFERROR(INDEX(Feiertage!$B$5:$B$23,MATCH(H$4,Feiertage!$T$5:$T$23,0)),"") | I6: =IFERROR(INDEX(Feiertage!$B$5:$B$23,MATCH(I$4,Feiertage!$T$5:$T$23,0)),"") | ... AF6: =IFERROR(INDEX(Feiertage!$B$5:$B$23,MATCH(AF$4,Feiertage!$T$5:$T$23,0)),"")
A7: =IF(Jahresübersicht!A5="","",Jahresübersicht!A5) | AG7: =SUMPRODUCT((B7:AF7="U")*$B$3:$AF$3)+0.5*SUMPRODUCT((B7:AF7="H")*$B$3:$AF$3) | AH7: =SUMPRODUCT((B7:AF7="K")*$B$3:$AF$3) | AI7: =SUMPRODUCT(((B7:AF7="S")+(B7:AF7="Z"))*$B$3:$AF$3)
A8: =IF(Jahresübersicht!A6="","",Jahresübersicht!A6) | AG8: =SUMPRODUCT((B8:AF8="U")*$B$3:$AF$3)+0.5*SUMPRODUCT((B8:AF8="H")*$B$3:$AF$3) | AH8: =SUMPRODUCT((B8:AF8="K")*$B$3:$AF$3) | AI8: =SUMPRODUCT(((B8:AF8="S")+(B8:AF8="Z"))*$B$3:$AF$3)
A9: =IF(Jahresübersicht!A7="","",Jahresübersicht!A7) | AG9: =SUMPRODUCT((B9:AF9="U")*$B$3:$AF$3)+0.5*SUMPRODUCT((B9:AF9="H")*$B$3:$AF$3) | AH9: =SUMPRODUCT((B9:AF9="K")*$B$3:$AF$3) | AI9: =SUMPRODUCT(((B9:AF9="S")+(B9:AF9="Z"))*$B$3:$AF$3)
A10: =IF(Jahresübersicht!A8="","",Jahresübersicht!A8) | AG10: =SUMPRODUCT((B10:AF10="U")*$B$3:$AF$3)+0.5*SUMPRODUCT((B10:AF10="H")*$B$3:$AF$3) | AH10: =SUMPRODUCT((B10:AF10="K")*$B$3:$AF$3) | AI10: =SUMPRODUCT(((B10:AF10="S")+(B10:AF10="Z"))*$B$3:$AF$3)
A11: =IF(Jahresübersicht!A9="","",Jahresübersicht!A9) | AG11: =SUMPRODUCT((B11:AF11="U")*$B$3:$AF$3)+0.5*SUMPRODUCT((B11:AF11="H")*$B$3:$AF$3) | AH11: =SUMPRODUCT((B11:AF11="K")*$B$3:$AF$3) | AI11: =SUMPRODUCT(((B11:AF11="S")+(B11:AF11="Z"))*$B$3:$AF$3)
A12: =IF(Jahresübersicht!A10="","",Jahresübersicht!A10) | AG12: =SUMPRODUCT((B12:AF12="U")*$B$3:$AF$3)+0.5*SUMPRODUCT((B12:AF12="H")*$B$3:$AF$3) | AH12: =SUMPRODUCT((B12:AF12="K")*$B$3:$AF$3) | AI12: =SUMPRODUCT(((B12:AF12="S")+(B12:AF12="Z"))*$B$3:$AF$3)
A13: =IF(Jahresübersicht!A11="","",Jahresübersicht!A11) | AG13: =SUMPRODUCT((B13:AF13="U")*$B$3:$AF$3)+0.5*SUMPRODUCT((B13:AF13="H")*$B$3:$AF$3) | AH13: =SUMPRODUCT((B13:AF13="K")*$B$3:$AF$3) | AI13: =SUMPRODUCT(((B13:AF13="S")+(B13:AF13="Z"))*$B$3:$AF$3)
A14: =IF(Jahresübersicht!A12="","",Jahresübersicht!A12) | AG14: =SUMPRODUCT((B14:AF14="U")*$B$3:$AF$3)+0.5*SUMPRODUCT((B14:AF14="H")*$B$3:$AF$3) | AH14: =SUMPRODUCT((B14:AF14="K")*$B$3:$AF$3) | AI14: =SUMPRODUCT(((B14:AF14="S")+(B14:AF14="Z"))*$B$3:$AF$3)
A15: =IF(Jahresübersicht!A13="","",Jahresübersicht!A13) | AG15: =SUMPRODUCT((B15:AF15="U")*$B$3:$AF$3)+0.5*SUMPRODUCT((B15:AF15="H")*$B$3:$AF$3) | AH15: =SUMPRODUCT((B15:AF15="K")*$B$3:$AF$3) | AI15: =SUMPRODUCT(((B15:AF15="S")+(B15:AF15="Z"))*$B$3:$AF$3)
A16: =IF(Jahresübersicht!A14="","",Jahresübersicht!A14) | AG16: =SUMPRODUCT((B16:AF16="U")*$B$3:$AF$3)+0.5*SUMPRODUCT((B16:AF16="H")*$B$3:$AF$3) | AH16: =SUMPRODUCT((B16:AF16="K")*$B$3:$AF$3) | AI16: =SUMPRODUCT(((B16:AF16="S")+(B16:AF16="Z"))*$B$3:$AF$3)
A17: =IF(Jahresübersicht!A15="","",Jahresübersicht!A15) | AG17: =SUMPRODUCT((B17:AF17="U")*$B$3:$AF$3)+0.5*SUMPRODUCT((B17:AF17="H")*$B$3:$AF$3) | AH17: =SUMPRODUCT((B17:AF17="K")*$B$3:$AF$3) | AI17: =SUMPRODUCT(((B17:AF17="S")+(B17:AF17="Z"))*$B$3:$AF$3)
A18: =IF(Jahresübersicht!A16="","",Jahresübersicht!A16) | AG18: =SUMPRODUCT((B18:AF18="U")*$B$3:$AF$3)+0.5*SUMPRODUCT((B18:AF18="H")*$B$3:$AF$3) | AH18: =SUMPRODUCT((B18:AF18="K")*$B$3:$AF$3) | AI18: =SUMPRODUCT(((B18:AF18="S")+(B18:AF18="Z"))*$B$3:$AF$3)
... A31: =IF(Jahresübersicht!A29="","",Jahresübersicht!A29) | AG31: =SUMPRODUCT((B31:AF31="U")*$B$3:$AF$3)+0.5*SUMPRODUCT((B31:AF31="H")*$B$3:$AF$3) | AH31: =SUMPRODUCT((B31:AF31="K")*$B$3:$AF$3) | AI31: =SUMPRODUCT(((B31:AF31="S")+(B31:AF31="Z"))*$B$3:$AF$3)

Sheet November
A1: November 2027 | N1: Urlaubsplanung digital mit flair
A2: ="Bundesland: "&Start!C5
A3: Arbeitstag (1/0) | B3: =IF(COUNTIF(Feiertage!$T$5:$T$23,B$4)>0,0,1) | C3: =IF(COUNTIF(Feiertage!$T$5:$T$23,C$4)>0,0,1) | D3: =IF(COUNTIF(Feiertage!$T$5:$T$23,D$4)>0,0,1) | E3: =IF(COUNTIF(Feiertage!$T$5:$T$23,E$4)>0,0,1) | F3: =IF(COUNTIF(Feiertage!$T$5:$T$23,F$4)>0,0,1) | G3: 0 | H3: 0 | I3: =IF(COUNTIF(Feiertage!$T$5:$T$23,I$4)>0,0,1) | J3: =IF(COUNTIF(Feiertage!$T$5:$T$23,J$4)>0,0,1) | K3: =IF(COUNTIF(Feiertage!$T$5:$T$23,K$4)>0,0,1) | L3: =IF(COUNTIF(Feiertage!$T$5:$T$23,L$4)>0,0,1) | M3: =IF(COUNTIF(Feiertage!$T$5:$T$23,M$4)>0,0,1) | N3: 0 | O3: 0 | P3: =IF(COUNTIF(Feiertage!$T$5:$T$23,P$4)>0,0,1) | Q3: =IF(COUNTIF(Feiertage!$T$5:$T$23,Q$4)>0,0,1) | R3: =IF(COUNTIF(Feiertage!$T$5:$T$23,R$4)>0,0,1) | S3: =IF(COUNTIF(Feiertage!$T$5:$T$23,S$4)>0,0,1) | T3: =IF(COUNTIF(Feiertage!$T$5:$T$23,T$4)>0,0,1) | U3: 0 | V3: 0 | W3: =IF(COUNTIF(Feiertage!$T$5:$T$23,W$4)>0,0,1) | X3: =IF(COUNTIF(Feiertage!$T$5:$T$23,X$4)>0,0,1) | Y3: =IF(COUNTIF(Feiertage!$T$5:$T$23,Y$4)>0,0,1) | Z3: =IF(COUNTIF(Feiertage!$T$5:$T$23,Z$4)>0,0,1) | AA3: =IF(COUNTIF(Feiertage!$T$5:$T$23,AA$4)>0,0,1) | AB3: 0 | AC3: 0 | AD3: =IF(COUNTIF(Feiertage!$T$5:$T$23,AD$4)>0,0,1) | AE3: =IF(COUNTIF(Feiertage!$T$5:$T$23,AE$4)>0,0,1) | AF3: 0
A4: Datum | B4: 46692 | C4: 46693 | D4: 46694 | E4: 46695 | F4: 46696 | G4: 46697 | H4: 46698 | I4: 46699 | J4: 46700 | K4: 46701 | L4: 46702 | M4: 46703 | N4: 46704 | O4: 46705 | P4: 46706 | Q4: 46707 | R4: 46708 | S4: 46709 | T4: 46710 | U4: 46711 | V4: 46712 | W4: 46713 | X4: 46714 | Y4: 46715 | Z4: 46716 | AA4: 46717 | AB4: 46718 | AC4: 46719 | AD4: 46720 | AE4: 46721 | AG4: Urlaub | AH4: Krank | AI4: Sonst.
A5: Wochentag | B5: Mo | C5: Di | D5: Mi | E5: Do | F5: Fr | G5: Sa | H5: So | I5: Mo | J5: Di | K5: Mi | L5: Do | M5: Fr | N5: Sa | O5: So | P5: Mo | Q5: Di | R5: Mi | S5: Do | T5: Fr | U5: Sa | V5: So | W5: Mo | X5: Di | Y5: Mi | Z5: Do | AA5: Fr | AB5: Sa | AC5: So | AD5: Mo | AE5: Di
A6: Feiertag | B6: =IFERROR(INDEX(Feiertage!$B$5:$B$23,MATCH(B$4,Feiertage!$T$5:$T$23,0)),"") | C6: =IFERROR(INDEX(Feiertage!$B$5:$B$23,MATCH(C$4,Feiertage!$T$5:$T$23,0)),"") | D6: =IFERROR(INDEX(Feiertage!$B$5:$B$23,MATCH(D$4,Feiertage!$T$5:$T$23,0)),"") | E6: =IFERROR(INDEX(Feiertage!$B$5:$B$23,MATCH(E$4,Feiertage!$T$5:$T$23,0)),"") | F6: =IFERROR(INDEX(Feiertage!$B$5:$B$23,MATCH(F$4,Feiertage!$T$5:$T$23,0)),"") | G6: =IFERROR(INDEX(Feiertage!$B$5:$B$23,MATCH(G$4,Feiertage!$T$5:$T$23,0)),"") | H6: =IFERROR(INDEX(Feiertage!$B$5:$B$23,MATCH(H$4,Feiertage!$T$5:$T$23,0)),"") | I6: =IFERROR(INDEX(Feiertage!$B$5:$B$23,MATCH(I$4,Feiertage!$T$5:$T$23,0)),"") | ... AE6: =IFERROR(INDEX(Feiertage!$B$5:$B$23,MATCH(AE$4,Feiertage!$T$5:$T$23,0)),"")
A7: =IF(Jahresübersicht!A5="","",Jahresübersicht!A5) | AG7: =SUMPRODUCT((B7:AF7="U")*$B$3:$AF$3)+0.5*SUMPRODUCT((B7:AF7="H")*$B$3:$AF$3) | AH7: =SUMPRODUCT((B7:AF7="K")*$B$3:$AF$3) | AI7: =SUMPRODUCT(((B7:AF7="S")+(B7:AF7="Z"))*$B$3:$AF$3)
A8: =IF(Jahresübersicht!A6="","",Jahresübersicht!A6) | AG8: =SUMPRODUCT((B8:AF8="U")*$B$3:$AF$3)+0.5*SUMPRODUCT((B8:AF8="H")*$B$3:$AF$3) | AH8: =SUMPRODUCT((B8:AF8="K")*$B$3:$AF$3) | AI8: =SUMPRODUCT(((B8:AF8="S")+(B8:AF8="Z"))*$B$3:$AF$3)
A9: =IF(Jahresübersicht!A7="","",Jahresübersicht!A7) | AG9: =SUMPRODUCT((B9:AF9="U")*$B$3:$AF$3)+0.5*SUMPRODUCT((B9:AF9="H")*$B$3:$AF$3) | AH9: =SUMPRODUCT((B9:AF9="K")*$B$3:$AF$3) | AI9: =SUMPRODUCT(((B9:AF9="S")+(B9:AF9="Z"))*$B$3:$AF$3)
A10: =IF(Jahresübersicht!A8="","",Jahresübersicht!A8) | AG10: =SUMPRODUCT((B10:AF10="U")*$B$3:$AF$3)+0.5*SUMPRODUCT((B10:AF10="H")*$B$3:$AF$3) | AH10: =SUMPRODUCT((B10:AF10="K")*$B$3:$AF$3) | AI10: =SUMPRODUCT(((B10:AF10="S")+(B10:AF10="Z"))*$B$3:$AF$3)
A11: =IF(Jahresübersicht!A9="","",Jahresübersicht!A9) | AG11: =SUMPRODUCT((B11:AF11="U")*$B$3:$AF$3)+0.5*SUMPRODUCT((B11:AF11="H")*$B$3:$AF$3) | AH11: =SUMPRODUCT((B11:AF11="K")*$B$3:$AF$3) | AI11: =SUMPRODUCT(((B11:AF11="S")+(B11:AF11="Z"))*$B$3:$AF$3)
A12: =IF(Jahresübersicht!A10="","",Jahresübersicht!A10) | AG12: =SUMPRODUCT((B12:AF12="U")*$B$3:$AF$3)+0.5*SUMPRODUCT((B12:AF12="H")*$B$3:$AF$3) | AH12: =SUMPRODUCT((B12:AF12="K")*$B$3:$AF$3) | AI12: =SUMPRODUCT(((B12:AF12="S")+(B12:AF12="Z"))*$B$3:$AF$3)
A13: =IF(Jahresübersicht!A11="","",Jahresübersicht!A11) | AG13: =SUMPRODUCT((B13:AF13="U")*$B$3:$AF$3)+0.5*SUMPRODUCT((B13:AF13="H")*$B$3:$AF$3) | AH13: =SUMPRODUCT((B13:AF13="K")*$B$3:$AF$3) | AI13: =SUMPRODUCT(((B13:AF13="S")+(B13:AF13="Z"))*$B$3:$AF$3)
A14: =IF(Jahresübersicht!A12="","",Jahresübersicht!A12) | AG14: =SUMPRODUCT((B14:AF14="U")*$B$3:$AF$3)+0.5*SUMPRODUCT((B14:AF14="H")*$B$3:$AF$3) | AH14: =SUMPRODUCT((B14:AF14="K")*$B$3:$AF$3) | AI14: =SUMPRODUCT(((B14:AF14="S")+(B14:AF14="Z"))*$B$3:$AF$3)
A15: =IF(Jahresübersicht!A13="","",Jahresübersicht!A13) | AG15: =SUMPRODUCT((B15:AF15="U")*$B$3:$AF$3)+0.5*SUMPRODUCT((B15:AF15="H")*$B$3:$AF$3) | AH15: =SUMPRODUCT((B15:AF15="K")*$B$3:$AF$3) | AI15: =SUMPRODUCT(((B15:AF15="S")+(B15:AF15="Z"))*$B$3:$AF$3)
A16: =IF(Jahresübersicht!A14="","",Jahresübersicht!A14) | AG16: =SUMPRODUCT((B16:AF16="U")*$B$3:$AF$3)+0.5*SUMPRODUCT((B16:AF16="H")*$B$3:$AF$3) | AH16: =SUMPRODUCT((B16:AF16="K")*$B$3:$AF$3) | AI16: =SUMPRODUCT(((B16:AF16="S")+(B16:AF16="Z"))*$B$3:$AF$3)
A17: =IF(Jahresübersicht!A15="","",Jahresübersicht!A15) | AG17: =SUMPRODUCT((B17:AF17="U")*$B$3:$AF$3)+0.5*SUMPRODUCT((B17:AF17="H")*$B$3:$AF$3) | AH17: =SUMPRODUCT((B17:AF17="K")*$B$3:$AF$3) | AI17: =SUMPRODUCT(((B17:AF17="S")+(B17:AF17="Z"))*$B$3:$AF$3)
A18: =IF(Jahresübersicht!A16="","",Jahresübersicht!A16) | AG18: =SUMPRODUCT((B18:AF18="U")*$B$3:$AF$3)+0.5*SUMPRODUCT((B18:AF18="H")*$B$3:$AF$3) | AH18: =SUMPRODUCT((B18:AF18="K")*$B$3:$AF$3) | AI18: =SUMPRODUCT(((B18:AF18="S")+(B18:AF18="Z"))*$B$3:$AF$3)
... A31: =IF(Jahresübersicht!A29="","",Jahresübersicht!A29) | AG31: =SUMPRODUCT((B31:AF31="U")*$B$3:$AF$3)+0.5*SUMPRODUCT((B31:AF31="H")*$B$3:$AF$3) | AH31: =SUMPRODUCT((B31:AF31="K")*$B$3:$AF$3) | AI31: =SUMPRODUCT(((B31:AF31="S")+(B31:AF31="Z"))*$B$3:$AF$3)

Sheet Dezember
A1: Dezember 2027 | N1: Urlaubsplanung digital mit flair
A2: ="Bundesland: "&Start!C5
A3: Arbeitstag (1/0) | B3: =IF(COUNTIF(Feiertage!$T$5:$T$23,B$4)>0,0,1) | C3: =IF(COUNTIF(Feiertage!$T$5:$T$23,C$4)>0,0,1) | D3: =IF(COUNTIF(Feiertage!$T$5:$T$23,D$4)>0,0,1) | E3: 0 | F3: 0 | G3: =IF(COUNTIF(Feiertage!$T$5:$T$23,G$4)>0,0,1) | H3: =IF(COUNTIF(Feiertage!$T$5:$T$23,H$4)>0,0,1) | I3: =IF(COUNTIF(Feiertage!$T$5:$T$23,I$4)>0,0,1) | J3: =IF(COUNTIF(Feiertage!$T$5:$T$23,J$4)>0,0,1) | K3: =IF(COUNTIF(Feiertage!$T$5:$T$23,K$4)>0,0,1) | L3: 0 | M3: 0 | N3: =IF(COUNTIF(Feiertage!$T$5:$T$23,N$4)>0,0,1) | O3: =IF(COUNTIF(Feiertage!$T$5:$T$23,O$4)>0,0,1) | P3: =IF(COUNTIF(Feiertage!$T$5:$T$23,P$4)>0,0,1) | Q3: =IF(COUNTIF(Feiertage!$T$5:$T$23,Q$4)>0,0,1) | R3: =IF(COUNTIF(Feiertage!$T$5:$T$23,R$4)>0,0,1) | S3: 0 | T3: 0 | U3: =IF(COUNTIF(Feiertage!$T$5:$T$23,U$4)>0,0,1) | V3: =IF(COUNTIF(Feiertage!$T$5:$T$23,V$4)>0,0,1) | W3: =IF(COUNTIF(Feiertage!$T$5:$T$23,W$4)>0,0,1) | X3: =IF(COUNTIF(Feiertage!$T$5:$T$23,X$4)>0,0,1) | Y3: =IF(COUNTIF(Feiertage!$T$5:$T$23,Y$4)>0,0,1) | Z3: 0 | AA3: 0 | AB3: =IF(COUNTIF(Feiertage!$T$5:$T$23,AB$4)>0,0,1) | AC3: =IF(COUNTIF(Feiertage!$T$5:$T$23,AC$4)>0,0,1) | AD3: =IF(COUNTIF(Feiertage!$T$5:$T$23,AD$4)>0,0,1) | AE3: =IF(COUNTIF(Feiertage!$T$5:$T$23,AE$4)>0,0,1) | AF3: =IF(COUNTIF(Feiertage!$T$5:$T$23,AF$4)>0,0,1)
A4: Datum | B4: 46722 | C4: 46723 | D4: 46724 | E4: 46725 | F4: 46726 | G4: 46727 | H4: 46728 | I4: 46729 | J4: 46730 | K4: 46731 | L4: 46732 | M4: 46733 | N4: 46734 | O4: 46735 | P4: 46736 | Q4: 46737 | R4: 46738 | S4: 46739 | T4: 46740 | U4: 46741 | V4: 46742 | W4: 46743 | X4: 46744 | Y4: 46745 | Z4: 46746 | AA4: 46747 | AB4: 46748 | AC4: 46749 | AD4: 46750 | AE4: 46751 | AF4: 46752 | AG4: Urlaub | AH4: Krank | AI4: Sonst.
A5: Wochentag | B5: Mi | C5: Do | D5: Fr | E5: Sa | F5: So | G5: Mo | H5: Di | I5: Mi | J5: Do | K5: Fr | L5: Sa | M5: So | N5: Mo | O5: Di | P5: Mi | Q5: Do | R5: Fr | S5: Sa | T5: So | U5: Mo | V5: Di | W5: Mi | X5: Do | Y5: Fr | Z5: Sa | AA5: So | AB5: Mo | AC5: Di | AD5: Mi | AE5: Do | AF5: Fr
A6: Feiertag | B6: =IFERROR(INDEX(Feiertage!$B$5:$B$23,MATCH(B$4,Feiertage!$T$5:$T$23,0)),"") | C6: =IFERROR(INDEX(Feiertage!$B$5:$B$23,MATCH(C$4,Feiertage!$T$5:$T$23,0)),"") | D6: =IFERROR(INDEX(Feiertage!$B$5:$B$23,MATCH(D$4,Feiertage!$T$5:$T$23,0)),"") | E6: =IFERROR(INDEX(Feiertage!$B$5:$B$23,MATCH(E$4,Feiertage!$T$5:$T$23,0)),"") | F6: =IFERROR(INDEX(Feiertage!$B$5:$B$23,MATCH(F$4,Feiertage!$T$5:$T$23,0)),"") | G6: =IFERROR(INDEX(Feiertage!$B$5:$B$23,MATCH(G$4,Feiertage!$T$5:$T$23,0)),"") | H6: =IFERROR(INDEX(Feiertage!$B$5:$B$23,MATCH(H$4,Feiertage!$T$5:$T$23,0)),"") | I6: =IFERROR(INDEX(Feiertage!$B$5:$B$23,MATCH(I$4,Feiertage!$T$5:$T$23,0)),"") | ... AF6: =IFERROR(INDEX(Feiertage!$B$5:$B$23,MATCH(AF$4,Feiertage!$T$5:$T$23,0)),"")
A7: =IF(Jahresübersicht!A5="","",Jahresübersicht!A5) | AG7: =SUMPRODUCT((B7:AF7="U")*$B$3:$AF$3)+0.5*SUMPRODUCT((B7:AF7="H")*$B$3:$AF$3) | AH7: =SUMPRODUCT((B7:AF7="K")*$B$3:$AF$3) | AI7: =SUMPRODUCT(((B7:AF7="S")+(B7:AF7="Z"))*$B$3:$AF$3)
A8: =IF(Jahresübersicht!A6="","",Jahresübersicht!A6) | AG8: =SUMPRODUCT((B8:AF8="U")*$B$3:$AF$3)+0.5*SUMPRODUCT((B8:AF8="H")*$B$3:$AF$3) | AH8: =SUMPRODUCT((B8:AF8="K")*$B$3:$AF$3) | AI8: =SUMPRODUCT(((B8:AF8="S")+(B8:AF8="Z"))*$B$3:$AF$3)
A9: =IF(Jahresübersicht!A7="","",Jahresübersicht!A7) | AG9: =SUMPRODUCT((B9:AF9="U")*$B$3:$AF$3)+0.5*SUMPRODUCT((B9:AF9="H")*$B$3:$AF$3) | AH9: =SUMPRODUCT((B9:AF9="K")*$B$3:$AF$3) | AI9: =SUMPRODUCT(((B9:AF9="S")+(B9:AF9="Z"))*$B$3:$AF$3)
A10: =IF(Jahresübersicht!A8="","",Jahresübersicht!A8) | AG10: =SUMPRODUCT((B10:AF10="U")*$B$3:$AF$3)+0.5*SUMPRODUCT((B10:AF10="H")*$B$3:$AF$3) | AH10: =SUMPRODUCT((B10:AF10="K")*$B$3:$AF$3) | AI10: =SUMPRODUCT(((B10:AF10="S")+(B10:AF10="Z"))*$B$3:$AF$3)
A11: =IF(Jahresübersicht!A9="","",Jahresübersicht!A9) | AG11: =SUMPRODUCT((B11:AF11="U")*$B$3:$AF$3)+0.5*SUMPRODUCT((B11:AF11="H")*$B$3:$AF$3) | AH11: =SUMPRODUCT((B11:AF11="K")*$B$3:$AF$3) | AI11: =SUMPRODUCT(((B11:AF11="S")+(B11:AF11="Z"))*$B$3:$AF$3)
A12: =IF(Jahresübersicht!A10="","",Jahresübersicht!A10) | AG12: =SUMPRODUCT((B12:AF12="U")*$B$3:$AF$3)+0.5*SUMPRODUCT((B12:AF12="H")*$B$3:$AF$3) | AH12: =SUMPRODUCT((B12:AF12="K")*$B$3:$AF$3) | AI12: =SUMPRODUCT(((B12:AF12="S")+(B12:AF12="Z"))*$B$3:$AF$3)
A13: =IF(Jahresübersicht!A11="","",Jahresübersicht!A11) | AG13: =SUMPRODUCT((B13:AF13="U")*$B$3:$AF$3)+0.5*SUMPRODUCT((B13:AF13="H")*$B$3:$AF$3) | AH13: =SUMPRODUCT((B13:AF13="K")*$B$3:$AF$3) | AI13: =SUMPRODUCT(((B13:AF13="S")+(B13:AF13="Z"))*$B$3:$AF$3)
A14: =IF(Jahresübersicht!A12="","",Jahresübersicht!A12) | AG14: =SUMPRODUCT((B14:AF14="U")*$B$3:$AF$3)+0.5*SUMPRODUCT((B14:AF14="H")*$B$3:$AF$3) | AH14: =SUMPRODUCT((B14:AF14="K")*$B$3:$AF$3) | AI14: =SUMPRODUCT(((B14:AF14="S")+(B14:AF14="Z"))*$B$3:$AF$3)
A15: =IF(Jahresübersicht!A13="","",Jahresübersicht!A13) | AG15: =SUMPRODUCT((B15:AF15="U")*$B$3:$AF$3)+0.5*SUMPRODUCT((B15:AF15="H")*$B$3:$AF$3) | AH15: =SUMPRODUCT((B15:AF15="K")*$B$3:$AF$3) | AI15: =SUMPRODUCT(((B15:AF15="S")+(B15:AF15="Z"))*$B$3:$AF$3)
A16: =IF(Jahresübersicht!A14="","",Jahresübersicht!A14) | AG16: =SUMPRODUCT((B16:AF16="U")*$B$3:$AF$3)+0.5*SUMPRODUCT((B16:AF16="H")*$B$3:$AF$3) | AH16: =SUMPRODUCT((B16:AF16="K")*$B$3:$AF$3) | AI16: =SUMPRODUCT(((B16:AF16="S")+(B16:AF16="Z"))*$B$3:$AF$3)
A17: =IF(Jahresübersicht!A15="","",Jahresübersicht!A15) | AG17: =SUMPRODUCT((B17:AF17="U")*$B$3:$AF$3)+0.5*SUMPRODUCT((B17:AF17="H")*$B$3:$AF$3) | AH17: =SUMPRODUCT((B17:AF17="K")*$B$3:$AF$3) | AI17: =SUMPRODUCT(((B17:AF17="S")+(B17:AF17="Z"))*$B$3:$AF$3)
A18: =IF(Jahresübersicht!A16="","",Jahresübersicht!A16) | AG18: =SUMPRODUCT((B18:AF18="U")*$B$3:$AF$3)+0.5*SUMPRODUCT((B18:AF18="H")*$B$3:$AF$3) | AH18: =SUMPRODUCT((B18:AF18="K")*$B$3:$AF$3) | AI18: =SUMPRODUCT(((B18:AF18="S")+(B18:AF18="Z"))*$B$3:$AF$3)
... A31: =IF(Jahresübersicht!A29="","",Jahresübersicht!A29) | AG31: =SUMPRODUCT((B31:AF31="U")*$B$3:$AF$3)+0.5*SUMPRODUCT((B31:AF31="H")*$B$3:$AF$3) | AH31: =SUMPRODUCT((B31:AF31="K")*$B$3:$AF$3) | AI31: =SUMPRODUCT(((B31:AF31="S")+(B31:AF31="Z"))*$B$3:$AF$3)
