Workbook

Sheet Bewertung
A1: 9-Box-Grid: Bewertung | E1: Kalibrierungsrunden mit flair
A2: Jede Person mit 1–3 bewerten (1 = niedrig, 2 = mittel, 3 = hoch). Feld und Empfehlung erscheinen automatisch.
A4: Mitarbeiter:in | B4: Team | C4: Führungskraft | D4: Leistung (1–3) | E4: Potenzial (1–3) | F4: Feld | G4: Empfohlene Maßnahme | H4: Notizen
A5: [Beispiel: Alex] | D5: 3 | E5: 3 | F5: =IF(OR(D5="",E5=""),"",VLOOKUP(D5*10+E5,'Felder'!$A$2:$E$10,4,FALSE)) | G5: =IF(OR(D5="",E5=""),"",VLOOKUP(D5*10+E5,'Felder'!$A$2:$E$10,5,FALSE))
A6: [Beispiel: Sam] | D6: 2 | E6: 2 | F6: =IF(OR(D6="",E6=""),"",VLOOKUP(D6*10+E6,'Felder'!$A$2:$E$10,4,FALSE)) | G6: =IF(OR(D6="",E6=""),"",VLOOKUP(D6*10+E6,'Felder'!$A$2:$E$10,5,FALSE))
A7: [Beispiel: Jordan] | D7: 3 | E7: 1 | F7: =IF(OR(D7="",E7=""),"",VLOOKUP(D7*10+E7,'Felder'!$A$2:$E$10,4,FALSE)) | G7: =IF(OR(D7="",E7=""),"",VLOOKUP(D7*10+E7,'Felder'!$A$2:$E$10,5,FALSE))
F8: =IF(OR(D8="",E8=""),"",VLOOKUP(D8*10+E8,'Felder'!$A$2:$E$10,4,FALSE)) | G8: =IF(OR(D8="",E8=""),"",VLOOKUP(D8*10+E8,'Felder'!$A$2:$E$10,5,FALSE))
F9: =IF(OR(D9="",E9=""),"",VLOOKUP(D9*10+E9,'Felder'!$A$2:$E$10,4,FALSE)) | G9: =IF(OR(D9="",E9=""),"",VLOOKUP(D9*10+E9,'Felder'!$A$2:$E$10,5,FALSE))
F10: =IF(OR(D10="",E10=""),"",VLOOKUP(D10*10+E10,'Felder'!$A$2:$E$10,4,FALSE)) | G10: =IF(OR(D10="",E10=""),"",VLOOKUP(D10*10+E10,'Felder'!$A$2:$E$10,5,FALSE))
F11: =IF(OR(D11="",E11=""),"",VLOOKUP(D11*10+E11,'Felder'!$A$2:$E$10,4,FALSE)) | G11: =IF(OR(D11="",E11=""),"",VLOOKUP(D11*10+E11,'Felder'!$A$2:$E$10,5,FALSE))
F12: =IF(OR(D12="",E12=""),"",VLOOKUP(D12*10+E12,'Felder'!$A$2:$E$10,4,FALSE)) | G12: =IF(OR(D12="",E12=""),"",VLOOKUP(D12*10+E12,'Felder'!$A$2:$E$10,5,FALSE))
F13: =IF(OR(D13="",E13=""),"",VLOOKUP(D13*10+E13,'Felder'!$A$2:$E$10,4,FALSE)) | G13: =IF(OR(D13="",E13=""),"",VLOOKUP(D13*10+E13,'Felder'!$A$2:$E$10,5,FALSE))
F14: =IF(OR(D14="",E14=""),"",VLOOKUP(D14*10+E14,'Felder'!$A$2:$E$10,4,FALSE)) | G14: =IF(OR(D14="",E14=""),"",VLOOKUP(D14*10+E14,'Felder'!$A$2:$E$10,5,FALSE))
F15: =IF(OR(D15="",E15=""),"",VLOOKUP(D15*10+E15,'Felder'!$A$2:$E$10,4,FALSE)) | G15: =IF(OR(D15="",E15=""),"",VLOOKUP(D15*10+E15,'Felder'!$A$2:$E$10,5,FALSE))
F16: =IF(OR(D16="",E16=""),"",VLOOKUP(D16*10+E16,'Felder'!$A$2:$E$10,4,FALSE)) | G16: =IF(OR(D16="",E16=""),"",VLOOKUP(D16*10+E16,'Felder'!$A$2:$E$10,5,FALSE))
F17: =IF(OR(D17="",E17=""),"",VLOOKUP(D17*10+E17,'Felder'!$A$2:$E$10,4,FALSE)) | G17: =IF(OR(D17="",E17=""),"",VLOOKUP(D17*10+E17,'Felder'!$A$2:$E$10,5,FALSE))
F18: =IF(OR(D18="",E18=""),"",VLOOKUP(D18*10+E18,'Felder'!$A$2:$E$10,4,FALSE)) | G18: =IF(OR(D18="",E18=""),"",VLOOKUP(D18*10+E18,'Felder'!$A$2:$E$10,5,FALSE))
F19: =IF(OR(D19="",E19=""),"",VLOOKUP(D19*10+E19,'Felder'!$A$2:$E$10,4,FALSE)) | G19: =IF(OR(D19="",E19=""),"",VLOOKUP(D19*10+E19,'Felder'!$A$2:$E$10,5,FALSE))
... F54: =IF(OR(D54="",E54=""),"",VLOOKUP(D54*10+E54,'Felder'!$A$2:$E$10,4,FALSE)) | G54: =IF(OR(D54="",E54=""),"",VLOOKUP(D54*10+E54,'Felder'!$A$2:$E$10,5,FALSE))

Sheet Raster
A1: 9-Box-Grid
A2: Anzahl Personen pro Feld (aus dem Blatt „Bewertung“).
A4: POTENZIAL | B4: Hoch | C4: ="Rohdiamant"&CHAR(10)&COUNTIF('Bewertung'!$F$5:$F$54,"Rohdiamant")&" Personen"&CHAR(10)&"Erwartungen klären, eng begleiten, Passung der Rolle prüfen" | D4: ="Aufstrebendes Talent"&CHAR(10)&COUNTIF('Bewertung'!$F$5:$F$54,"Aufstrebendes Talent")&" Personen"&CHAR(10)&"Herausfordernde Aufgaben, Mentoring, für Beförderung beobachten" | E4: ="Top-Talent"&CHAR(10)&COUNTIF('Bewertung'!$F$5:$F$54,"Top-Talent")&" Personen"&CHAR(10)&"Halten, Entwicklung beschleunigen, Nachfolgekandidat:in"
B5: Mittel | C5: ="Schwankende Leistung"&CHAR(10)&COUNTIF('Bewertung'!$F$5:$F$54,"Schwankende Leistung")&" Personen"&CHAR(10)&"Ursachen klären, klare Ziele, regelmäßiges Feedback" | D5: ="Kernkraft"&CHAR(10)&COUNTIF('Bewertung'!$F$5:$F$54,"Kernkraft")&" Personen"&CHAR(10)&"In der aktuellen Rolle entwickeln, Erfahrung verbreitern" | E5: ="Leistungsträger:in"&CHAR(10)&COUNTIF('Bewertung'!$F$5:$F$54,"Leistungsträger:in")&" Personen"&CHAR(10)&"Anerkennen, Verantwortung erweitern, nächste Rolle ausloten"
B6: Niedrig | C6: ="Risiko"&CHAR(10)&COUNTIF('Bewertung'!$F$5:$F$54,"Risiko")&" Personen"&CHAR(10)&"Leistungsplan mit Unterstützung; Rollenwechsel prüfen" | D6: ="Solide Kraft"&CHAR(10)&COUNTIF('Bewertung'!$F$5:$F$54,"Solide Kraft")&" Personen"&CHAR(10)&"Motivation halten, gezielte Weiterbildung" | E6: ="Fachexpert:in"&CHAR(10)&COUNTIF('Bewertung'!$F$5:$F$54,"Fachexpert:in")&" Personen"&CHAR(10)&"Belohnen, als Expert:in und Mentor:in einsetzen"
C7: Niedrig | D7: Mittel | E7: Hoch
C8: LEISTUNG

Sheet Felder
A1: Schlüssel | B1: Leistung | C1: Potenzial | D1: Feld | E1: Empfohlene Maßnahme
A2: 11 | B2: Niedrig | C2: Niedrig | D2: Risiko | E2: Leistungsplan mit Unterstützung; Rollenwechsel prüfen
A3: 12 | B3: Niedrig | C3: Mittel | D3: Schwankende Leistung | E3: Ursachen klären, klare Ziele, regelmäßiges Feedback
A4: 13 | B4: Niedrig | C4: Hoch | D4: Rohdiamant | E4: Erwartungen klären, eng begleiten, Passung der Rolle prüfen
A5: 21 | B5: Mittel | C5: Niedrig | D5: Solide Kraft | E5: Motivation halten, gezielte Weiterbildung
A6: 22 | B6: Mittel | C6: Mittel | D6: Kernkraft | E6: In der aktuellen Rolle entwickeln, Erfahrung verbreitern
A7: 23 | B7: Mittel | C7: Hoch | D7: Aufstrebendes Talent | E7: Herausfordernde Aufgaben, Mentoring, für Beförderung beobachten
A8: 31 | B8: Hoch | C8: Niedrig | D8: Fachexpert:in | E8: Belohnen, als Expert:in und Mentor:in einsetzen
A9: 32 | B9: Hoch | C9: Mittel | D9: Leistungsträger:in | E9: Anerkennen, Verantwortung erweitern, nächste Rolle ausloten
A10: 33 | B10: Hoch | C10: Hoch | D10: Top-Talent | E10: Halten, Entwicklung beschleunigen, Nachfolgekandidat:in
